BEGIN:VCALENDAR
VERSION:2.0
PRODID:-//Devoted City - ECPv6.15.20//NONSGML v1.0//EN
CALSCALE:GREGORIAN
METHOD:PUBLISH
X-ORIGINAL-URL:https://devotedcity.com
X-WR-CALDESC:Events for Devoted City
REFRESH-INTERVAL;VALUE=DURATION:PT1H
X-Robots-Tag:noindex
X-PUBLISHED-TTL:PT1H
BEGIN:VTIMEZONE
TZID:America/New_York
BEGIN:DAYLIGHT
TZOFFSETFROM:-0500
TZOFFSETTO:-0400
TZNAME:EDT
DTSTART:20290311T070000
END:DAYLIGHT
BEGIN:STANDARD
TZOFFSETFROM:-0400
TZOFFSETTO:-0500
TZNAME:EST
DTSTART:20291104T060000
END:STANDARD
BEGIN:DAYLIGHT
TZOFFSETFROM:-0500
TZOFFSETTO:-0400
TZNAME:EDT
DTSTART:20300310T070000
END:DAYLIGHT
BEGIN:STANDARD
TZOFFSETFROM:-0400
TZOFFSETTO:-0500
TZNAME:EST
DTSTART:20301103T060000
END:STANDARD
BEGIN:DAYLIGHT
TZOFFSETFROM:-0500
TZOFFSETTO:-0400
TZNAME:EDT
DTSTART:20310309T070000
END:DAYLIGHT
BEGIN:STANDARD
TZOFFSETFROM:-0400
TZOFFSETTO:-0500
TZNAME:EST
DTSTART:20311102T060000
END:STANDARD
END:VTIMEZONE
BEGIN:VEVENT
DTSTART;TZID=America/New_York:20300711T183000
DTEND;TZID=America/New_York:20300711T200000
DTSTAMP:20260425T091913
CREATED:20250920T000122Z
LAST-MODIFIED:20251109T015706Z
UID:10000829-1910025000-1910030400@devotedcity.com
SUMMARY:G4 Support and Recovery Groups
DESCRIPTION:Find community & biblically based healing at our weekly G4 groups. No registration required\, Thursdays at 6:30pm.\nLearn more.
URL:https://devotedcity.com/event/g4-support-and-recovery-groups/2030-07-11/
LOCATION:Devoted City North Raleigh\, 9500 DURANT RD\, RALEIGH\, NC\, 27614-9721\, United States
CATEGORIES:Cary,North Raleigh
ATTACH;FMTTYPE=image/jpeg:https://devotedcity.com/wp-content/uploads/2024/11/g4-dcc-background.jpg
END:VEVENT
BEGIN:VEVENT
DTSTART;TZID=America/New_York:20300718T183000
DTEND;TZID=America/New_York:20300718T200000
DTSTAMP:20260425T091913
CREATED:20250920T000122Z
LAST-MODIFIED:20251109T015706Z
UID:10000830-1910629800-1910635200@devotedcity.com
SUMMARY:G4 Support and Recovery Groups
DESCRIPTION:Find community & biblically based healing at our weekly G4 groups. No registration required\, Thursdays at 6:30pm.\nLearn more.
URL:https://devotedcity.com/event/g4-support-and-recovery-groups/2030-07-18/
LOCATION:Devoted City North Raleigh\, 9500 DURANT RD\, RALEIGH\, NC\, 27614-9721\, United States
CATEGORIES:Cary,North Raleigh
ATTACH;FMTTYPE=image/jpeg:https://devotedcity.com/wp-content/uploads/2024/11/g4-dcc-background.jpg
END:VEVENT
BEGIN:VEVENT
DTSTART;TZID=America/New_York:20300725T183000
DTEND;TZID=America/New_York:20300725T200000
DTSTAMP:20260425T091913
CREATED:20250920T000122Z
LAST-MODIFIED:20251109T015706Z
UID:10000831-1911234600-1911240000@devotedcity.com
SUMMARY:G4 Support and Recovery Groups
DESCRIPTION:Find community & biblically based healing at our weekly G4 groups. No registration required\, Thursdays at 6:30pm.\nLearn more.
URL:https://devotedcity.com/event/g4-support-and-recovery-groups/2030-07-25/
LOCATION:Devoted City North Raleigh\, 9500 DURANT RD\, RALEIGH\, NC\, 27614-9721\, United States
CATEGORIES:Cary,North Raleigh
ATTACH;FMTTYPE=image/jpeg:https://devotedcity.com/wp-content/uploads/2024/11/g4-dcc-background.jpg
END:VEVENT
BEGIN:VEVENT
DTSTART;TZID=America/New_York:20300801T183000
DTEND;TZID=America/New_York:20300801T200000
DTSTAMP:20260425T091913
CREATED:20250920T000122Z
LAST-MODIFIED:20251109T015706Z
UID:10000832-1911839400-1911844800@devotedcity.com
SUMMARY:G4 Support and Recovery Groups
DESCRIPTION:Find community & biblically based healing at our weekly G4 groups. No registration required\, Thursdays at 6:30pm.\nLearn more.
URL:https://devotedcity.com/event/g4-support-and-recovery-groups/2030-08-01/
LOCATION:Devoted City North Raleigh\, 9500 DURANT RD\, RALEIGH\, NC\, 27614-9721\, United States
CATEGORIES:Cary,North Raleigh
ATTACH;FMTTYPE=image/jpeg:https://devotedcity.com/wp-content/uploads/2024/11/g4-dcc-background.jpg
END:VEVENT
BEGIN:VEVENT
DTSTART;TZID=America/New_York:20300808T183000
DTEND;TZID=America/New_York:20300808T200000
DTSTAMP:20260425T091913
CREATED:20250920T000122Z
LAST-MODIFIED:20251109T015706Z
UID:10000833-1912444200-1912449600@devotedcity.com
SUMMARY:G4 Support and Recovery Groups
DESCRIPTION:Find community & biblically based healing at our weekly G4 groups. No registration required\, Thursdays at 6:30pm.\nLearn more.
URL:https://devotedcity.com/event/g4-support-and-recovery-groups/2030-08-08/
LOCATION:Devoted City North Raleigh\, 9500 DURANT RD\, RALEIGH\, NC\, 27614-9721\, United States
CATEGORIES:Cary,North Raleigh
ATTACH;FMTTYPE=image/jpeg:https://devotedcity.com/wp-content/uploads/2024/11/g4-dcc-background.jpg
END:VEVENT
BEGIN:VEVENT
DTSTART;TZID=America/New_York:20300815T183000
DTEND;TZID=America/New_York:20300815T200000
DTSTAMP:20260425T091913
CREATED:20250920T000122Z
LAST-MODIFIED:20251109T015706Z
UID:10000834-1913049000-1913054400@devotedcity.com
SUMMARY:G4 Support and Recovery Groups
DESCRIPTION:Find community & biblically based healing at our weekly G4 groups. No registration required\, Thursdays at 6:30pm.\nLearn more.
URL:https://devotedcity.com/event/g4-support-and-recovery-groups/2030-08-15/
LOCATION:Devoted City North Raleigh\, 9500 DURANT RD\, RALEIGH\, NC\, 27614-9721\, United States
CATEGORIES:Cary,North Raleigh
ATTACH;FMTTYPE=image/jpeg:https://devotedcity.com/wp-content/uploads/2024/11/g4-dcc-background.jpg
END:VEVENT
BEGIN:VEVENT
DTSTART;TZID=America/New_York:20300822T183000
DTEND;TZID=America/New_York:20300822T200000
DTSTAMP:20260425T091913
CREATED:20250920T000122Z
LAST-MODIFIED:20251109T015706Z
UID:10000835-1913653800-1913659200@devotedcity.com
SUMMARY:G4 Support and Recovery Groups
DESCRIPTION:Find community & biblically based healing at our weekly G4 groups. No registration required\, Thursdays at 6:30pm.\nLearn more.
URL:https://devotedcity.com/event/g4-support-and-recovery-groups/2030-08-22/
LOCATION:Devoted City North Raleigh\, 9500 DURANT RD\, RALEIGH\, NC\, 27614-9721\, United States
CATEGORIES:Cary,North Raleigh
ATTACH;FMTTYPE=image/jpeg:https://devotedcity.com/wp-content/uploads/2024/11/g4-dcc-background.jpg
END:VEVENT
BEGIN:VEVENT
DTSTART;TZID=America/New_York:20300829T183000
DTEND;TZID=America/New_York:20300829T200000
DTSTAMP:20260425T091913
CREATED:20250920T000122Z
LAST-MODIFIED:20251109T015706Z
UID:10000836-1914258600-1914264000@devotedcity.com
SUMMARY:G4 Support and Recovery Groups
DESCRIPTION:Find community & biblically based healing at our weekly G4 groups. No registration required\, Thursdays at 6:30pm.\nLearn more.
URL:https://devotedcity.com/event/g4-support-and-recovery-groups/2030-08-29/
LOCATION:Devoted City North Raleigh\, 9500 DURANT RD\, RALEIGH\, NC\, 27614-9721\, United States
CATEGORIES:Cary,North Raleigh
ATTACH;FMTTYPE=image/jpeg:https://devotedcity.com/wp-content/uploads/2024/11/g4-dcc-background.jpg
END:VEVENT
BEGIN:VEVENT
DTSTART;TZID=America/New_York:20300905T183000
DTEND;TZID=America/New_York:20300905T200000
DTSTAMP:20260425T091913
CREATED:20250920T000122Z
LAST-MODIFIED:20251109T015706Z
UID:10000837-1914863400-1914868800@devotedcity.com
SUMMARY:G4 Support and Recovery Groups
DESCRIPTION:Find community & biblically based healing at our weekly G4 groups. No registration required\, Thursdays at 6:30pm.\nLearn more.
URL:https://devotedcity.com/event/g4-support-and-recovery-groups/2030-09-05/
LOCATION:Devoted City North Raleigh\, 9500 DURANT RD\, RALEIGH\, NC\, 27614-9721\, United States
CATEGORIES:Cary,North Raleigh
ATTACH;FMTTYPE=image/jpeg:https://devotedcity.com/wp-content/uploads/2024/11/g4-dcc-background.jpg
END:VEVENT
BEGIN:VEVENT
DTSTART;TZID=America/New_York:20300912T183000
DTEND;TZID=America/New_York:20300912T200000
DTSTAMP:20260425T091913
CREATED:20250920T000122Z
LAST-MODIFIED:20251109T015706Z
UID:10000838-1915468200-1915473600@devotedcity.com
SUMMARY:G4 Support and Recovery Groups
DESCRIPTION:Find community & biblically based healing at our weekly G4 groups. No registration required\, Thursdays at 6:30pm.\nLearn more.
URL:https://devotedcity.com/event/g4-support-and-recovery-groups/2030-09-12/
LOCATION:Devoted City North Raleigh\, 9500 DURANT RD\, RALEIGH\, NC\, 27614-9721\, United States
CATEGORIES:Cary,North Raleigh
ATTACH;FMTTYPE=image/jpeg:https://devotedcity.com/wp-content/uploads/2024/11/g4-dcc-background.jpg
END:VEVENT
BEGIN:VEVENT
DTSTART;TZID=America/New_York:20300919T183000
DTEND;TZID=America/New_York:20300919T200000
DTSTAMP:20260425T091913
CREATED:20250920T000122Z
LAST-MODIFIED:20251109T015706Z
UID:10000839-1916073000-1916078400@devotedcity.com
SUMMARY:G4 Support and Recovery Groups
DESCRIPTION:Find community & biblically based healing at our weekly G4 groups. No registration required\, Thursdays at 6:30pm.\nLearn more.
URL:https://devotedcity.com/event/g4-support-and-recovery-groups/2030-09-19/
LOCATION:Devoted City North Raleigh\, 9500 DURANT RD\, RALEIGH\, NC\, 27614-9721\, United States
CATEGORIES:Cary,North Raleigh
ATTACH;FMTTYPE=image/jpeg:https://devotedcity.com/wp-content/uploads/2024/11/g4-dcc-background.jpg
END:VEVENT
BEGIN:VEVENT
DTSTART;TZID=America/New_York:20300926T183000
DTEND;TZID=America/New_York:20300926T200000
DTSTAMP:20260425T091913
CREATED:20250920T000122Z
LAST-MODIFIED:20251109T015706Z
UID:10000840-1916677800-1916683200@devotedcity.com
SUMMARY:G4 Support and Recovery Groups
DESCRIPTION:Find community & biblically based healing at our weekly G4 groups. No registration required\, Thursdays at 6:30pm.\nLearn more.
URL:https://devotedcity.com/event/g4-support-and-recovery-groups/2030-09-26/
LOCATION:Devoted City North Raleigh\, 9500 DURANT RD\, RALEIGH\, NC\, 27614-9721\, United States
CATEGORIES:Cary,North Raleigh
ATTACH;FMTTYPE=image/jpeg:https://devotedcity.com/wp-content/uploads/2024/11/g4-dcc-background.jpg
END:VEVENT
BEGIN:VEVENT
DTSTART;TZID=America/New_York:20301003T183000
DTEND;TZID=America/New_York:20301003T200000
DTSTAMP:20260425T091913
CREATED:20250920T000122Z
LAST-MODIFIED:20251109T015706Z
UID:10000841-1917282600-1917288000@devotedcity.com
SUMMARY:G4 Support and Recovery Groups
DESCRIPTION:Find community & biblically based healing at our weekly G4 groups. No registration required\, Thursdays at 6:30pm.\nLearn more.
URL:https://devotedcity.com/event/g4-support-and-recovery-groups/2030-10-03/
LOCATION:Devoted City North Raleigh\, 9500 DURANT RD\, RALEIGH\, NC\, 27614-9721\, United States
CATEGORIES:Cary,North Raleigh
ATTACH;FMTTYPE=image/jpeg:https://devotedcity.com/wp-content/uploads/2024/11/g4-dcc-background.jpg
END:VEVENT
BEGIN:VEVENT
DTSTART;TZID=America/New_York:20301010T183000
DTEND;TZID=America/New_York:20301010T200000
DTSTAMP:20260425T091913
CREATED:20250920T000122Z
LAST-MODIFIED:20251109T015706Z
UID:10000842-1917887400-1917892800@devotedcity.com
SUMMARY:G4 Support and Recovery Groups
DESCRIPTION:Find community & biblically based healing at our weekly G4 groups. No registration required\, Thursdays at 6:30pm.\nLearn more.
URL:https://devotedcity.com/event/g4-support-and-recovery-groups/2030-10-10/
LOCATION:Devoted City North Raleigh\, 9500 DURANT RD\, RALEIGH\, NC\, 27614-9721\, United States
CATEGORIES:Cary,North Raleigh
ATTACH;FMTTYPE=image/jpeg:https://devotedcity.com/wp-content/uploads/2024/11/g4-dcc-background.jpg
END:VEVENT
BEGIN:VEVENT
DTSTART;TZID=America/New_York:20301017T183000
DTEND;TZID=America/New_York:20301017T200000
DTSTAMP:20260425T091913
CREATED:20250920T000122Z
LAST-MODIFIED:20251109T015706Z
UID:10000843-1918492200-1918497600@devotedcity.com
SUMMARY:G4 Support and Recovery Groups
DESCRIPTION:Find community & biblically based healing at our weekly G4 groups. No registration required\, Thursdays at 6:30pm.\nLearn more.
URL:https://devotedcity.com/event/g4-support-and-recovery-groups/2030-10-17/
LOCATION:Devoted City North Raleigh\, 9500 DURANT RD\, RALEIGH\, NC\, 27614-9721\, United States
CATEGORIES:Cary,North Raleigh
ATTACH;FMTTYPE=image/jpeg:https://devotedcity.com/wp-content/uploads/2024/11/g4-dcc-background.jpg
END:VEVENT
BEGIN:VEVENT
DTSTART;TZID=America/New_York:20301024T183000
DTEND;TZID=America/New_York:20301024T200000
DTSTAMP:20260425T091913
CREATED:20250920T000122Z
LAST-MODIFIED:20251109T015706Z
UID:10000844-1919097000-1919102400@devotedcity.com
SUMMARY:G4 Support and Recovery Groups
DESCRIPTION:Find community & biblically based healing at our weekly G4 groups. No registration required\, Thursdays at 6:30pm.\nLearn more.
URL:https://devotedcity.com/event/g4-support-and-recovery-groups/2030-10-24/
LOCATION:Devoted City North Raleigh\, 9500 DURANT RD\, RALEIGH\, NC\, 27614-9721\, United States
CATEGORIES:Cary,North Raleigh
ATTACH;FMTTYPE=image/jpeg:https://devotedcity.com/wp-content/uploads/2024/11/g4-dcc-background.jpg
END:VEVENT
BEGIN:VEVENT
DTSTART;TZID=America/New_York:20301031T183000
DTEND;TZID=America/New_York:20301031T200000
DTSTAMP:20260425T091913
CREATED:20250920T000122Z
LAST-MODIFIED:20251109T015706Z
UID:10000845-1919701800-1919707200@devotedcity.com
SUMMARY:G4 Support and Recovery Groups
DESCRIPTION:Find community & biblically based healing at our weekly G4 groups. No registration required\, Thursdays at 6:30pm.\nLearn more.
URL:https://devotedcity.com/event/g4-support-and-recovery-groups/2030-10-31/
LOCATION:Devoted City North Raleigh\, 9500 DURANT RD\, RALEIGH\, NC\, 27614-9721\, United States
CATEGORIES:Cary,North Raleigh
ATTACH;FMTTYPE=image/jpeg:https://devotedcity.com/wp-content/uploads/2024/11/g4-dcc-background.jpg
END:VEVENT
BEGIN:VEVENT
DTSTART;TZID=America/New_York:20301107T183000
DTEND;TZID=America/New_York:20301107T200000
DTSTAMP:20260425T091913
CREATED:20250920T000122Z
LAST-MODIFIED:20251109T015706Z
UID:10000846-1920306600-1920312000@devotedcity.com
SUMMARY:G4 Support and Recovery Groups
DESCRIPTION:Find community & biblically based healing at our weekly G4 groups. No registration required\, Thursdays at 6:30pm.\nLearn more.
URL:https://devotedcity.com/event/g4-support-and-recovery-groups/2030-11-07/
LOCATION:Devoted City North Raleigh\, 9500 DURANT RD\, RALEIGH\, NC\, 27614-9721\, United States
CATEGORIES:Cary,North Raleigh
ATTACH;FMTTYPE=image/jpeg:https://devotedcity.com/wp-content/uploads/2024/11/g4-dcc-background.jpg
END:VEVENT
END:VCALENDAR