BEGIN:VCALENDAR
VERSION:2.0
PRODID:-//Devoted City - ECPv6.15.20//NONSGML v1.0//EN
CALSCALE:GREGORIAN
METHOD:PUBLISH
X-ORIGINAL-URL:https://devotedcity.com
X-WR-CALDESC:Events for Devoted City
REFRESH-INTERVAL;VALUE=DURATION:PT1H
X-Robots-Tag:noindex
X-PUBLISHED-TTL:PT1H
BEGIN:VTIMEZONE
TZID:America/New_York
BEGIN:DAYLIGHT
TZOFFSETFROM:-0500
TZOFFSETTO:-0400
TZNAME:EDT
DTSTART:20230312T070000
END:DAYLIGHT
BEGIN:STANDARD
TZOFFSETFROM:-0400
TZOFFSETTO:-0500
TZNAME:EST
DTSTART:20231105T060000
END:STANDARD
BEGIN:DAYLIGHT
TZOFFSETFROM:-0500
TZOFFSETTO:-0400
TZNAME:EDT
DTSTART:20240310T070000
END:DAYLIGHT
BEGIN:STANDARD
TZOFFSETFROM:-0400
TZOFFSETTO:-0500
TZNAME:EST
DTSTART:20241103T060000
END:STANDARD
BEGIN:DAYLIGHT
TZOFFSETFROM:-0500
TZOFFSETTO:-0400
TZNAME:EDT
DTSTART:20250309T070000
END:DAYLIGHT
BEGIN:STANDARD
TZOFFSETFROM:-0400
TZOFFSETTO:-0500
TZNAME:EST
DTSTART:20251102T060000
END:STANDARD
BEGIN:DAYLIGHT
TZOFFSETFROM:-0500
TZOFFSETTO:-0400
TZNAME:EDT
DTSTART:20260308T070000
END:DAYLIGHT
BEGIN:STANDARD
TZOFFSETFROM:-0400
TZOFFSETTO:-0500
TZNAME:EST
DTSTART:20261101T060000
END:STANDARD
END:VTIMEZONE
BEGIN:VEVENT
DTSTART;TZID=America/New_York:20250406T111500
DTEND;TZID=America/New_York:20250406T111500
DTSTAMP:20260425T084459
CREATED:20250320T163621Z
LAST-MODIFIED:20250320T163621Z
UID:10000179-1743938100-1743938100@devotedcity.com
SUMMARY:Spring Family Cookout
DESCRIPTION:Spring has sprung and you’re invited! We’ll have hot dogs\, bounce houses\, and easter egg hunts for both the littles and older kids.⁠ ⁠⁠While the family cookout is for families and kids of all ages\, the easter egg hunts are intended for 5th grade and under.⁠
URL:https://devotedcity.com/event/spring-family-cookout-cary/
LOCATION:Devoted City Cary\, 590 Westhigh St\, Cary\, 27513\, United States
CATEGORIES:Cary,Kids
ATTACH;FMTTYPE=image/png:https://devotedcity.com/wp-content/uploads/2025/03/Cary-Splash-Family-Cookout.png
ORGANIZER;CN="Devoted City Kids":MAILTO:kids@devotedcity.com
END:VEVENT
BEGIN:VEVENT
DTSTART;VALUE=DATE:20250329
DTEND;VALUE=DATE:20250406
DTSTAMP:20260425T084459
CREATED:20240923T190832Z
LAST-MODIFIED:20240923T190832Z
UID:10000073-1743206400-1743897599@devotedcity.com
SUMMARY:Spring Break Mission Trip
DESCRIPTION:High Schoolers are going to Ireland for Spring Break to serve with R.I.O.T\, a youth center in Northern Ireland that has become a community hub\, hosting events to be an extension of Jesus to those around them. \nNorthern Ireland\nMarch 29-April 5\, 2025\n$3500 \nThe deposit to secure your spot is $250. We will have fundraising opportunities to help students pay for their trip. \nREGISTER HERE
URL:https://devotedcity.com/event/spring-break-mission-trip/
LOCATION:NC
CATEGORIES:Youth
ATTACH;FMTTYPE=image/png:https://devotedcity.com/wp-content/uploads/2024/09/SPRINGBREAKMISSIONS.png
END:VEVENT
BEGIN:VEVENT
DTSTART;TZID=America/New_York:20250326T183000
DTEND;TZID=America/New_York:20250326T200000
DTSTAMP:20260425T084459
CREATED:20250124T011150Z
LAST-MODIFIED:20250220T164228Z
UID:10000105-1743013800-1743019200@devotedcity.com
SUMMARY:Middle School Night
DESCRIPTION:
URL:https://devotedcity.com/event/middle-school-night/2025-03-26/
LOCATION:NC
CATEGORIES:Youth
ATTACH;FMTTYPE=image/png:https://devotedcity.com/wp-content/uploads/2024/08/default-youth-event-cover-FINAL.png
ORGANIZER;CN="Devoted City Youth":MAILTO:youth@devotedcity.com
END:VEVENT
BEGIN:VEVENT
DTSTART;TZID=America/New_York:20250323T180000
DTEND;TZID=America/New_York:20250323T200000
DTSTAMP:20260425T084459
CREATED:20250124T000739Z
LAST-MODIFIED:20250427T144941Z
UID:10000093-1742752800-1742760000@devotedcity.com
SUMMARY:HS House Parties
DESCRIPTION:
URL:https://devotedcity.com/event/hs-house-parties/2025-03-23/
LOCATION:NC
CATEGORIES:Youth
ATTACH;FMTTYPE=image/png:https://devotedcity.com/wp-content/uploads/2025/01/house-party-splash.png
ORGANIZER;CN="Devoted City Youth":MAILTO:youth@devotedcity.com
END:VEVENT
BEGIN:VEVENT
DTSTART;TZID=America/New_York:20250319T183000
DTEND;TZID=America/New_York:20250319T200000
DTSTAMP:20260425T084459
CREATED:20250124T011150Z
LAST-MODIFIED:20250220T164228Z
UID:10000104-1742409000-1742414400@devotedcity.com
SUMMARY:Middle School Night
DESCRIPTION:
URL:https://devotedcity.com/event/middle-school-night/2025-03-19/
LOCATION:NC
CATEGORIES:Youth
ATTACH;FMTTYPE=image/png:https://devotedcity.com/wp-content/uploads/2024/08/default-youth-event-cover-FINAL.png
ORGANIZER;CN="Devoted City Youth":MAILTO:youth@devotedcity.com
END:VEVENT
BEGIN:VEVENT
DTSTART;TZID=America/New_York:20250316T180000
DTEND;TZID=America/New_York:20250316T200000
DTSTAMP:20260425T084459
CREATED:20250124T000739Z
LAST-MODIFIED:20250427T144941Z
UID:10000092-1742148000-1742155200@devotedcity.com
SUMMARY:HS House Parties
DESCRIPTION:
URL:https://devotedcity.com/event/hs-house-parties/2025-03-16/
LOCATION:NC
CATEGORIES:Youth
ATTACH;FMTTYPE=image/png:https://devotedcity.com/wp-content/uploads/2025/01/house-party-splash.png
ORGANIZER;CN="Devoted City Youth":MAILTO:youth@devotedcity.com
END:VEVENT
BEGIN:VEVENT
DTSTART;TZID=America/New_York:20250312T183000
DTEND;TZID=America/New_York:20250312T200000
DTSTAMP:20260425T084459
CREATED:20250124T011150Z
LAST-MODIFIED:20250220T164228Z
UID:10000103-1741804200-1741809600@devotedcity.com
SUMMARY:Middle School Night
DESCRIPTION:
URL:https://devotedcity.com/event/middle-school-night/2025-03-12/
LOCATION:NC
CATEGORIES:Youth
ATTACH;FMTTYPE=image/png:https://devotedcity.com/wp-content/uploads/2024/08/default-youth-event-cover-FINAL.png
ORGANIZER;CN="Devoted City Youth":MAILTO:youth@devotedcity.com
END:VEVENT
BEGIN:VEVENT
DTSTART;TZID=America/New_York:20250309T180000
DTEND;TZID=America/New_York:20250309T200000
DTSTAMP:20260425T084459
CREATED:20250124T000739Z
LAST-MODIFIED:20250427T144941Z
UID:10000091-1741543200-1741550400@devotedcity.com
SUMMARY:HS House Parties
DESCRIPTION:
URL:https://devotedcity.com/event/hs-house-parties/2025-03-09/
LOCATION:NC
CATEGORIES:Youth
ATTACH;FMTTYPE=image/png:https://devotedcity.com/wp-content/uploads/2025/01/house-party-splash.png
ORGANIZER;CN="Devoted City Youth":MAILTO:youth@devotedcity.com
END:VEVENT
BEGIN:VEVENT
DTSTART;TZID=America/New_York:20250306T183000
DTEND;TZID=America/New_York:20250306T200000
DTSTAMP:20260425T084459
CREATED:20250215T120025Z
LAST-MODIFIED:20250214T021433Z
UID:10000173-1741285800-1741291200@devotedcity.com
SUMMARY:G4 Groups
DESCRIPTION:G4 Groups are launching at Devoted City! These support & recovery groups are gospel-centered\, to help you remember that your identity is not found in your struggle\, but in Christ. \nGroups begin March 6\, Thursdays from 6:30-8pm at the North Raleigh building. \nYou don’t need to register before attending\, and you can attend whenever! There’s no ‘start’ date. \nLearn More about G4 Groups at Devoted City.
URL:https://devotedcity.com/event/g4-groups/
LOCATION:Devoted City North Raleigh\, 9500 DURANT RD\, RALEIGH\, NC\, 27614-9721\, United States
CATEGORIES:Groups
ATTACH;FMTTYPE=image/jpeg:https://devotedcity.com/wp-content/uploads/2024/11/g4-dcc-background.jpg
END:VEVENT
BEGIN:VEVENT
DTSTART;TZID=America/New_York:20250305T183000
DTEND;TZID=America/New_York:20250305T200000
DTSTAMP:20260425T084459
CREATED:20250126T205117Z
LAST-MODIFIED:20250126T205129Z
UID:10000102-1741199400-1741204800@devotedcity.com
SUMMARY:Middle School Night: Camp Night
DESCRIPTION:
URL:https://devotedcity.com/event/middle-school-night-3/
LOCATION:NC
CATEGORIES:Youth
ORGANIZER;CN="Devoted City Youth":MAILTO:youth@devotedcity.com
END:VEVENT
BEGIN:VEVENT
DTSTART;TZID=America/New_York:20250305T183000
DTEND;TZID=America/New_York:20250305T200000
DTSTAMP:20260425T084459
CREATED:20250124T011150Z
LAST-MODIFIED:20250220T164228Z
UID:10000168-1741199400-1741204800@devotedcity.com
SUMMARY:Middle School Night
DESCRIPTION:
URL:https://devotedcity.com/event/middle-school-night/2025-03-05/
LOCATION:NC
CATEGORIES:Youth
ATTACH;FMTTYPE=image/png:https://devotedcity.com/wp-content/uploads/2024/08/default-youth-event-cover-FINAL.png
ORGANIZER;CN="Devoted City Youth":MAILTO:youth@devotedcity.com
END:VEVENT
BEGIN:VEVENT
DTSTART;TZID=America/New_York:20250302T180000
DTEND;TZID=America/New_York:20250302T200000
DTSTAMP:20260425T084459
CREATED:20250124T012024Z
LAST-MODIFIED:20250220T164729Z
UID:10000165-1740938400-1740945600@devotedcity.com
SUMMARY:HS Youth Night
DESCRIPTION:
URL:https://devotedcity.com/event/hs-youth-night/2025-03-02/
LOCATION:NC
CATEGORIES:Youth
ATTACH;FMTTYPE=image/png:https://devotedcity.com/wp-content/uploads/2025/01/YN-All-Icons-Splash.png
ORGANIZER;CN="Devoted City Youth":MAILTO:youth@devotedcity.com
END:VEVENT
BEGIN:VEVENT
DTSTART;TZID=America/New_York:20250226T183000
DTEND;TZID=America/New_York:20250226T200000
DTSTAMP:20260425T084459
CREATED:20250124T011150Z
LAST-MODIFIED:20250220T164228Z
UID:10000101-1740594600-1740600000@devotedcity.com
SUMMARY:Middle School Night
DESCRIPTION:
URL:https://devotedcity.com/event/middle-school-night/2025-02-26/
LOCATION:NC
CATEGORIES:Youth
ATTACH;FMTTYPE=image/png:https://devotedcity.com/wp-content/uploads/2024/08/default-youth-event-cover-FINAL.png
ORGANIZER;CN="Devoted City Youth":MAILTO:youth@devotedcity.com
END:VEVENT
BEGIN:VEVENT
DTSTART;TZID=America/New_York:20250223T180000
DTEND;TZID=America/New_York:20250223T200000
DTSTAMP:20260425T084459
CREATED:20250124T000739Z
LAST-MODIFIED:20250427T144941Z
UID:10000089-1740333600-1740340800@devotedcity.com
SUMMARY:HS House Parties
DESCRIPTION:
URL:https://devotedcity.com/event/hs-house-parties/2025-02-23/
LOCATION:NC
CATEGORIES:Youth
ATTACH;FMTTYPE=image/png:https://devotedcity.com/wp-content/uploads/2025/01/house-party-splash.png
ORGANIZER;CN="Devoted City Youth":MAILTO:youth@devotedcity.com
END:VEVENT
BEGIN:VEVENT
DTSTART;VALUE=DATE:20250221
DTEND;VALUE=DATE:20250223
DTSTAMP:20260425T084459
CREATED:20241112T021524Z
LAST-MODIFIED:20241203T225859Z
UID:10000074-1740096000-1740268799@devotedcity.com
SUMMARY:SuperStart: A Camp for 5th Graders
DESCRIPTION:We’re thrilled to be taking our 5th graders to SUPERSTART 2025! We’ll depart from Raleigh on Friday\, February 21st\, around 2:00 PM\, and return on Saturday\, February 22nd\, around 5:00 PM. More communication to follow. \nPlease join us for an interest/information meeting at the NR building on Tuesday\, December 17th at 6pm.  \nFun Fact: SuperStart is run by the same organization as our middle and high school camps\, called Christ in Youth (CIY). \nRegister here.
URL:https://devotedcity.com/event/superstart-5th-grade-camp/
LOCATION:Fairmount Christian Church\, 6502 Creighton Road\, Mechanicsville\, VA\, 23111\, United States
CATEGORIES:Cary,Kids,North Raleigh
ATTACH;FMTTYPE=image/png:https://devotedcity.com/wp-content/uploads/2024/11/SuperStart-Slide.png
END:VEVENT
BEGIN:VEVENT
DTSTART;TZID=America/New_York:20250219T183000
DTEND;TZID=America/New_York:20250219T200000
DTSTAMP:20260425T084459
CREATED:20250124T011150Z
LAST-MODIFIED:20250220T164228Z
UID:10000100-1739989800-1739995200@devotedcity.com
SUMMARY:Middle School Night
DESCRIPTION:
URL:https://devotedcity.com/event/middle-school-night/2025-02-19/
LOCATION:NC
CATEGORIES:Youth
ATTACH;FMTTYPE=image/png:https://devotedcity.com/wp-content/uploads/2024/08/default-youth-event-cover-FINAL.png
ORGANIZER;CN="Devoted City Youth":MAILTO:youth@devotedcity.com
END:VEVENT
BEGIN:VEVENT
DTSTART;TZID=America/New_York:20250216T180000
DTEND;TZID=America/New_York:20250216T200000
DTSTAMP:20260425T084459
CREATED:20250124T000739Z
LAST-MODIFIED:20250427T144941Z
UID:10000088-1739728800-1739736000@devotedcity.com
SUMMARY:HS House Parties
DESCRIPTION:
URL:https://devotedcity.com/event/hs-house-parties/2025-02-16/
LOCATION:NC
CATEGORIES:Youth
ATTACH;FMTTYPE=image/png:https://devotedcity.com/wp-content/uploads/2025/01/house-party-splash.png
ORGANIZER;CN="Devoted City Youth":MAILTO:youth@devotedcity.com
END:VEVENT
BEGIN:VEVENT
DTSTART;TZID=America/New_York:20250214T173000
DTEND;TZID=America/New_York:20250214T200000
DTSTAMP:20260425T084459
CREATED:20250131T020019Z
LAST-MODIFIED:20250213T212121Z
UID:10000172-1739554200-1739563200@devotedcity.com
SUMMARY:Parent's Night Out
DESCRIPTION:Our Youth Missions Team is hosting a Parent’s Night Out to raise funds for their trip to Northern Ireland. Parents – have a night to yourselves\, and help support our missions team! Registration is required\, space is limited. \nRegister Today
URL:https://devotedcity.com/event/parents-night-out-2/
LOCATION:Devoted City North Raleigh\, 9500 DURANT RD\, RALEIGH\, NC\, 27614-9721\, United States
CATEGORIES:Kids,Youth
ATTACH;FMTTYPE=image/png:https://devotedcity.com/wp-content/uploads/2025/01/3.png
ORGANIZER;CN="Devoted City Youth":MAILTO:youth@devotedcity.com
END:VEVENT
BEGIN:VEVENT
DTSTART;TZID=America/New_York:20250212T183000
DTEND;TZID=America/New_York:20250212T200000
DTSTAMP:20260425T084459
CREATED:20250124T011150Z
LAST-MODIFIED:20250220T164228Z
UID:10000099-1739385000-1739390400@devotedcity.com
SUMMARY:Middle School Night
DESCRIPTION:
URL:https://devotedcity.com/event/middle-school-night/2025-02-12/
LOCATION:NC
CATEGORIES:Youth
ATTACH;FMTTYPE=image/png:https://devotedcity.com/wp-content/uploads/2024/08/default-youth-event-cover-FINAL.png
ORGANIZER;CN="Devoted City Youth":MAILTO:youth@devotedcity.com
END:VEVENT
BEGIN:VEVENT
DTSTART;TZID=America/New_York:20250208T183000
DTEND;TZID=America/New_York:20250208T200000
DTSTAMP:20260425T084459
CREATED:20250107T061342Z
LAST-MODIFIED:20250116T015431Z
UID:10000081-1739039400-1739044800@devotedcity.com
SUMMARY:Music Bingo
DESCRIPTION:Young Adults\, we’re going to the Saturday night service at 5pm\, and then at 6:30 we’ll play music bingo! We’ll have walking tacos\, too. Bring a friend! \nYoung Adults gather every second Saturday for community. Learn more here.
URL:https://devotedcity.com/event/music-bingo/
LOCATION:Devoted City North Raleigh\, 9500 DURANT RD\, RALEIGH\, NC\, 27614-9721\, United States
CATEGORIES:Young Adults
ATTACH;FMTTYPE=image/jpeg:https://devotedcity.com/wp-content/uploads/2025/01/Music-Bingo-Presentation.jpg
END:VEVENT
BEGIN:VEVENT
DTSTART;TZID=America/New_York:20250207T183000
DTEND;TZID=America/New_York:20250207T200000
DTSTAMP:20260425T084459
CREATED:20250116T214513Z
LAST-MODIFIED:20250123T212001Z
UID:10000083-1738953000-1738958400@devotedcity.com
SUMMARY:MOVE
DESCRIPTION:If you’re new to Devoted City\, MOVE is an event for you! We’ll share more about Devoted City\, answer questions\, and you’ll be able to take next steps to get connected. Dinner is provided! Register today. \nRegister for MOVE
URL:https://devotedcity.com/event/move-february-25/
LOCATION:Devoted City Cary\, 590 Westhigh St\, Cary\, 27513\, United States
CATEGORIES:Cary,Move,North Raleigh
ATTACH;FMTTYPE=image/jpeg:https://devotedcity.com/wp-content/uploads/2024/01/Move-Title-Slide.jpg
END:VEVENT
BEGIN:VEVENT
DTSTART;TZID=America/New_York:20250205T183000
DTEND;TZID=America/New_York:20250205T200000
DTSTAMP:20260425T084459
CREATED:20250124T012601Z
LAST-MODIFIED:20250124T012601Z
UID:10000098-1738780200-1738785600@devotedcity.com
SUMMARY:Middle School: Backwards Night
DESCRIPTION:
URL:https://devotedcity.com/event/middle-school-night-2/
LOCATION:NC
CATEGORIES:Youth
ORGANIZER;CN="Devoted City Youth":MAILTO:youth@devotedcity.com
END:VEVENT
BEGIN:VEVENT
DTSTART;TZID=America/New_York:20250202T180000
DTEND;TZID=America/New_York:20250202T200000
DTSTAMP:20260425T084459
CREATED:20250124T012024Z
LAST-MODIFIED:20250220T164729Z
UID:10000164-1738519200-1738526400@devotedcity.com
SUMMARY:HS Youth Night
DESCRIPTION:
URL:https://devotedcity.com/event/hs-youth-night/2025-02-02/
LOCATION:NC
CATEGORIES:Youth
ATTACH;FMTTYPE=image/png:https://devotedcity.com/wp-content/uploads/2025/01/YN-All-Icons-Splash.png
ORGANIZER;CN="Devoted City Youth":MAILTO:youth@devotedcity.com
END:VEVENT
BEGIN:VEVENT
DTSTART;TZID=America/New_York:20250129T183000
DTEND;TZID=America/New_York:20250129T200000
DTSTAMP:20260425T084459
CREATED:20250124T011150Z
LAST-MODIFIED:20250220T164228Z
UID:10000097-1738175400-1738180800@devotedcity.com
SUMMARY:Middle School Night
DESCRIPTION:
URL:https://devotedcity.com/event/middle-school-night/2025-01-29/
LOCATION:NC
CATEGORIES:Youth
ATTACH;FMTTYPE=image/png:https://devotedcity.com/wp-content/uploads/2024/08/default-youth-event-cover-FINAL.png
ORGANIZER;CN="Devoted City Youth":MAILTO:youth@devotedcity.com
END:VEVENT
BEGIN:VEVENT
DTSTART;TZID=America/New_York:20250126T180000
DTEND;TZID=America/New_York:20250126T200000
DTSTAMP:20260425T084459
CREATED:20250124T000739Z
LAST-MODIFIED:20250427T144941Z
UID:10000086-1737914400-1737921600@devotedcity.com
SUMMARY:HS House Parties
DESCRIPTION:
URL:https://devotedcity.com/event/hs-house-parties/2025-01-26/
LOCATION:NC
CATEGORIES:Youth
ATTACH;FMTTYPE=image/png:https://devotedcity.com/wp-content/uploads/2025/01/house-party-splash.png
ORGANIZER;CN="Devoted City Youth":MAILTO:youth@devotedcity.com
END:VEVENT
BEGIN:VEVENT
DTSTART;TZID=America/New_York:20250125T083000
DTEND;TZID=America/New_York:20250125T100000
DTSTAMP:20260425T084459
CREATED:20250116T002305Z
LAST-MODIFIED:20250116T002305Z
UID:10000082-1737793800-1737799200@devotedcity.com
SUMMARY:Men's Bagel Breakfast
DESCRIPTION:Men of all ages are invited to our bagel breakfast on January 25 from 8:30-10am. It’s a great time to meet others from Devoted City\, and we’ll share a little about our upcoming bible study\, which you can sign up for on our groups webpage.
URL:https://devotedcity.com/event/mens-bagel-breakfast-jan/
LOCATION:Devoted City North Raleigh\, 9500 DURANT RD\, RALEIGH\, NC\, 27614-9721\, United States
CATEGORIES:Groups,North Raleigh
ATTACH;FMTTYPE=image/png:https://devotedcity.com/wp-content/uploads/2024/06/bagel-breakfast-no-date.png
END:VEVENT
BEGIN:VEVENT
DTSTART;TZID=America/New_York:20250116T190000
DTEND;TZID=America/New_York:20250116T200000
DTSTAMP:20260425T084459
CREATED:20241126T004102Z
LAST-MODIFIED:20241126T004102Z
UID:10000078-1737054000-1737057600@devotedcity.com
SUMMARY:G4 Interest Meetings: Lead a Group
DESCRIPTION:We’re hosting interest meetings to learn more about being a part of G4 groups launching at Devoted City Church in March 2025. \nThis one hour session will introduce you to a new support and recovery ministry\, what it is and isn’t\, and how you can take a next step in being part of the launch team. These are virtual meetings. \nOption 1: December 5\, 7-8pm \nOption 2: January 16\, 7-8pm \nAttend an Interest Meeting
URL:https://devotedcity.com/event/g4-interest-meetings-january/
LOCATION:NC
CATEGORIES:Groups
ATTACH;FMTTYPE=image/jpeg:https://devotedcity.com/wp-content/uploads/2024/11/g4-dcc-background.jpg
END:VEVENT
BEGIN:VEVENT
DTSTART;TZID=America/New_York:20250112T111500
DTEND;TZID=America/New_York:20250112T121500
DTSTAMP:20260425T084459
CREATED:20241220T011059Z
LAST-MODIFIED:20241220T011059Z
UID:10000080-1736680500-1736684100@devotedcity.com
SUMMARY:5th Grade Camp Interest Meeting
DESCRIPTION:We’re thrilled to be taking our 5th graders to SUPERSTART 2025! We’ll depart from Raleigh on Friday\, February 21st\, around 2:00 PM\, and return on Saturday\, February 22nd\, around 5:00 PM. More communication to follow. \nPlease join us for an interest/information meeting on Sunday\, January 12 after our 10am service. \nFun Fact: SuperStart is run by the same organization as our middle and high school camps\, called Christ in Youth (CIY). \nReady to register your child for SuperStart? Learn more.
URL:https://devotedcity.com/event/5th-grade-camp-interest-meeting/
LOCATION:Devoted City Cary\, 590 Westhigh St\, Cary\, 27513\, United States
CATEGORIES:Cary,Kids
ATTACH;FMTTYPE=image/png:https://devotedcity.com/wp-content/uploads/2024/11/SuperStart-Slide.png
ORGANIZER;CN="Devoted City Kids":MAILTO:kids@devotedcity.com
END:VEVENT
BEGIN:VEVENT
DTSTART;TZID=America/New_York:20250107T180000
DTEND;TZID=America/New_York:20250107T190000
DTSTAMP:20260425T084459
CREATED:20241220T010911Z
LAST-MODIFIED:20241220T010911Z
UID:10000079-1736272800-1736276400@devotedcity.com
SUMMARY:5th Grade Camp Interest Meeting
DESCRIPTION:We’re thrilled to be taking our 5th graders to SUPERSTART 2025! We’ll depart from Raleigh on Friday\, February 21st\, around 2:00 PM\, and return on Saturday\, February 22nd\, around 5:00 PM. More communication to follow. \nPlease join us for an interest/information meeting on Tuesday\, January 7th at 6pm.  \nFun Fact: SuperStart is run by the same organization as our middle and high school camps\, called Christ in Youth (CIY). \nReady to register your child for SuperStart? Learn more.
URL:https://devotedcity.com/event/5th-grade-camp-interest-meeting-nr/
LOCATION:Devoted City North Raleigh\, 9500 DURANT RD\, RALEIGH\, NC\, 27614-9721\, United States
CATEGORIES:Kids,North Raleigh
ATTACH;FMTTYPE=image/png:https://devotedcity.com/wp-content/uploads/2024/11/SuperStart-Slide.png
ORGANIZER;CN="Devoted City Kids":MAILTO:kids@devotedcity.com
END:VEVENT
BEGIN:VEVENT
DTSTART;TZID=America/New_York:20241217T130000
DTEND;TZID=America/New_York:20241217T140000
DTSTAMP:20260425T084459
CREATED:20241112T022010Z
LAST-MODIFIED:20241203T225401Z
UID:10000075-1734440400-1734444000@devotedcity.com
SUMMARY:SuperStart: Parent Interest Meeting
DESCRIPTION:We’re thrilled to be taking our 5th graders to SUPERSTART 2025! We’ll depart from Raleigh on Friday\, February 21st\, around 2:00 PM\, and return on Saturday\, February 22nd\, around 5:00 PM. More communication to follow. \nPlease join us for an interest/information meeting at the NR building on Tuesday\, December 17th at 6pm.  \nFun Fact: SuperStart is run by the same organization as our middle and high school camps\, called Christ in Youth (CIY). \nReady to register your child for SuperStart? Learn more.
URL:https://devotedcity.com/event/superstart-parent-interest-meeting/
LOCATION:Devoted City North Raleigh\, 9500 DURANT RD\, RALEIGH\, NC\, 27614-9721\, United States
CATEGORIES:Kids,North Raleigh
ATTACH;FMTTYPE=image/png:https://devotedcity.com/wp-content/uploads/2024/11/SuperStart-Slide.png
ORGANIZER;CN="Devoted City Kids":MAILTO:kids@devotedcity.com
END:VEVENT
END:VCALENDAR