BEGIN:VCALENDAR
VERSION:2.0
PRODID:-//Devoted City - ECPv6.15.20//NONSGML v1.0//EN
CALSCALE:GREGORIAN
METHOD:PUBLISH
X-ORIGINAL-URL:https://devotedcity.com
X-WR-CALDESC:Events for Devoted City
REFRESH-INTERVAL;VALUE=DURATION:PT1H
X-Robots-Tag:noindex
X-PUBLISHED-TTL:PT1H
BEGIN:VTIMEZONE
TZID:America/New_York
BEGIN:DAYLIGHT
TZOFFSETFROM:-0500
TZOFFSETTO:-0400
TZNAME:EDT
DTSTART:20290311T070000
END:DAYLIGHT
BEGIN:STANDARD
TZOFFSETFROM:-0400
TZOFFSETTO:-0500
TZNAME:EST
DTSTART:20291104T060000
END:STANDARD
BEGIN:DAYLIGHT
TZOFFSETFROM:-0500
TZOFFSETTO:-0400
TZNAME:EDT
DTSTART:20300310T070000
END:DAYLIGHT
BEGIN:STANDARD
TZOFFSETFROM:-0400
TZOFFSETTO:-0500
TZNAME:EST
DTSTART:20301103T060000
END:STANDARD
BEGIN:DAYLIGHT
TZOFFSETFROM:-0500
TZOFFSETTO:-0400
TZNAME:EDT
DTSTART:20310309T070000
END:DAYLIGHT
BEGIN:STANDARD
TZOFFSETFROM:-0400
TZOFFSETTO:-0500
TZNAME:EST
DTSTART:20311102T060000
END:STANDARD
END:VTIMEZONE
BEGIN:VEVENT
DTSTART;TZID=America/New_York:20300214T183000
DTEND;TZID=America/New_York:20300214T200000
DTSTAMP:20260423T082742
CREATED:20250920T000122Z
LAST-MODIFIED:20251109T015706Z
UID:10000808-1897324200-1897329600@devotedcity.com
SUMMARY:G4 Support and Recovery Groups
DESCRIPTION:Find community & biblically based healing at our weekly G4 groups. No registration required\, Thursdays at 6:30pm.\nLearn more.
URL:https://devotedcity.com/event/g4-support-and-recovery-groups/2030-02-14/
LOCATION:Devoted City North Raleigh\, 9500 DURANT RD\, RALEIGH\, NC\, 27614-9721\, United States
CATEGORIES:Cary,North Raleigh
ATTACH;FMTTYPE=image/jpeg:https://devotedcity.com/wp-content/uploads/2024/11/g4-dcc-background.jpg
END:VEVENT
BEGIN:VEVENT
DTSTART;TZID=America/New_York:20300221T183000
DTEND;TZID=America/New_York:20300221T200000
DTSTAMP:20260423T082742
CREATED:20250920T000122Z
LAST-MODIFIED:20251109T015706Z
UID:10000809-1897929000-1897934400@devotedcity.com
SUMMARY:G4 Support and Recovery Groups
DESCRIPTION:Find community & biblically based healing at our weekly G4 groups. No registration required\, Thursdays at 6:30pm.\nLearn more.
URL:https://devotedcity.com/event/g4-support-and-recovery-groups/2030-02-21/
LOCATION:Devoted City North Raleigh\, 9500 DURANT RD\, RALEIGH\, NC\, 27614-9721\, United States
CATEGORIES:Cary,North Raleigh
ATTACH;FMTTYPE=image/jpeg:https://devotedcity.com/wp-content/uploads/2024/11/g4-dcc-background.jpg
END:VEVENT
BEGIN:VEVENT
DTSTART;TZID=America/New_York:20300228T183000
DTEND;TZID=America/New_York:20300228T200000
DTSTAMP:20260423T082742
CREATED:20250920T000122Z
LAST-MODIFIED:20251109T015706Z
UID:10000810-1898533800-1898539200@devotedcity.com
SUMMARY:G4 Support and Recovery Groups
DESCRIPTION:Find community & biblically based healing at our weekly G4 groups. No registration required\, Thursdays at 6:30pm.\nLearn more.
URL:https://devotedcity.com/event/g4-support-and-recovery-groups/2030-02-28/
LOCATION:Devoted City North Raleigh\, 9500 DURANT RD\, RALEIGH\, NC\, 27614-9721\, United States
CATEGORIES:Cary,North Raleigh
ATTACH;FMTTYPE=image/jpeg:https://devotedcity.com/wp-content/uploads/2024/11/g4-dcc-background.jpg
END:VEVENT
BEGIN:VEVENT
DTSTART;TZID=America/New_York:20300307T183000
DTEND;TZID=America/New_York:20300307T200000
DTSTAMP:20260423T082742
CREATED:20250920T000122Z
LAST-MODIFIED:20251109T015706Z
UID:10000811-1899138600-1899144000@devotedcity.com
SUMMARY:G4 Support and Recovery Groups
DESCRIPTION:Find community & biblically based healing at our weekly G4 groups. No registration required\, Thursdays at 6:30pm.\nLearn more.
URL:https://devotedcity.com/event/g4-support-and-recovery-groups/2030-03-07/
LOCATION:Devoted City North Raleigh\, 9500 DURANT RD\, RALEIGH\, NC\, 27614-9721\, United States
CATEGORIES:Cary,North Raleigh
ATTACH;FMTTYPE=image/jpeg:https://devotedcity.com/wp-content/uploads/2024/11/g4-dcc-background.jpg
END:VEVENT
BEGIN:VEVENT
DTSTART;TZID=America/New_York:20300314T183000
DTEND;TZID=America/New_York:20300314T200000
DTSTAMP:20260423T082742
CREATED:20250920T000122Z
LAST-MODIFIED:20251109T015706Z
UID:10000812-1899743400-1899748800@devotedcity.com
SUMMARY:G4 Support and Recovery Groups
DESCRIPTION:Find community & biblically based healing at our weekly G4 groups. No registration required\, Thursdays at 6:30pm.\nLearn more.
URL:https://devotedcity.com/event/g4-support-and-recovery-groups/2030-03-14/
LOCATION:Devoted City North Raleigh\, 9500 DURANT RD\, RALEIGH\, NC\, 27614-9721\, United States
CATEGORIES:Cary,North Raleigh
ATTACH;FMTTYPE=image/jpeg:https://devotedcity.com/wp-content/uploads/2024/11/g4-dcc-background.jpg
END:VEVENT
BEGIN:VEVENT
DTSTART;TZID=America/New_York:20300321T183000
DTEND;TZID=America/New_York:20300321T200000
DTSTAMP:20260423T082742
CREATED:20250920T000122Z
LAST-MODIFIED:20251109T015706Z
UID:10000813-1900348200-1900353600@devotedcity.com
SUMMARY:G4 Support and Recovery Groups
DESCRIPTION:Find community & biblically based healing at our weekly G4 groups. No registration required\, Thursdays at 6:30pm.\nLearn more.
URL:https://devotedcity.com/event/g4-support-and-recovery-groups/2030-03-21/
LOCATION:Devoted City North Raleigh\, 9500 DURANT RD\, RALEIGH\, NC\, 27614-9721\, United States
CATEGORIES:Cary,North Raleigh
ATTACH;FMTTYPE=image/jpeg:https://devotedcity.com/wp-content/uploads/2024/11/g4-dcc-background.jpg
END:VEVENT
BEGIN:VEVENT
DTSTART;TZID=America/New_York:20300328T183000
DTEND;TZID=America/New_York:20300328T200000
DTSTAMP:20260423T082742
CREATED:20250920T000122Z
LAST-MODIFIED:20251109T015706Z
UID:10000814-1900953000-1900958400@devotedcity.com
SUMMARY:G4 Support and Recovery Groups
DESCRIPTION:Find community & biblically based healing at our weekly G4 groups. No registration required\, Thursdays at 6:30pm.\nLearn more.
URL:https://devotedcity.com/event/g4-support-and-recovery-groups/2030-03-28/
LOCATION:Devoted City North Raleigh\, 9500 DURANT RD\, RALEIGH\, NC\, 27614-9721\, United States
CATEGORIES:Cary,North Raleigh
ATTACH;FMTTYPE=image/jpeg:https://devotedcity.com/wp-content/uploads/2024/11/g4-dcc-background.jpg
END:VEVENT
BEGIN:VEVENT
DTSTART;TZID=America/New_York:20300404T183000
DTEND;TZID=America/New_York:20300404T200000
DTSTAMP:20260423T082742
CREATED:20250920T000122Z
LAST-MODIFIED:20251109T015706Z
UID:10000815-1901557800-1901563200@devotedcity.com
SUMMARY:G4 Support and Recovery Groups
DESCRIPTION:Find community & biblically based healing at our weekly G4 groups. No registration required\, Thursdays at 6:30pm.\nLearn more.
URL:https://devotedcity.com/event/g4-support-and-recovery-groups/2030-04-04/
LOCATION:Devoted City North Raleigh\, 9500 DURANT RD\, RALEIGH\, NC\, 27614-9721\, United States
CATEGORIES:Cary,North Raleigh
ATTACH;FMTTYPE=image/jpeg:https://devotedcity.com/wp-content/uploads/2024/11/g4-dcc-background.jpg
END:VEVENT
BEGIN:VEVENT
DTSTART;TZID=America/New_York:20300411T183000
DTEND;TZID=America/New_York:20300411T200000
DTSTAMP:20260423T082742
CREATED:20250920T000122Z
LAST-MODIFIED:20251109T015706Z
UID:10000816-1902162600-1902168000@devotedcity.com
SUMMARY:G4 Support and Recovery Groups
DESCRIPTION:Find community & biblically based healing at our weekly G4 groups. No registration required\, Thursdays at 6:30pm.\nLearn more.
URL:https://devotedcity.com/event/g4-support-and-recovery-groups/2030-04-11/
LOCATION:Devoted City North Raleigh\, 9500 DURANT RD\, RALEIGH\, NC\, 27614-9721\, United States
CATEGORIES:Cary,North Raleigh
ATTACH;FMTTYPE=image/jpeg:https://devotedcity.com/wp-content/uploads/2024/11/g4-dcc-background.jpg
END:VEVENT
BEGIN:VEVENT
DTSTART;TZID=America/New_York:20300418T183000
DTEND;TZID=America/New_York:20300418T200000
DTSTAMP:20260423T082742
CREATED:20250920T000122Z
LAST-MODIFIED:20251109T015706Z
UID:10000817-1902767400-1902772800@devotedcity.com
SUMMARY:G4 Support and Recovery Groups
DESCRIPTION:Find community & biblically based healing at our weekly G4 groups. No registration required\, Thursdays at 6:30pm.\nLearn more.
URL:https://devotedcity.com/event/g4-support-and-recovery-groups/2030-04-18/
LOCATION:Devoted City North Raleigh\, 9500 DURANT RD\, RALEIGH\, NC\, 27614-9721\, United States
CATEGORIES:Cary,North Raleigh
ATTACH;FMTTYPE=image/jpeg:https://devotedcity.com/wp-content/uploads/2024/11/g4-dcc-background.jpg
END:VEVENT
BEGIN:VEVENT
DTSTART;TZID=America/New_York:20300425T183000
DTEND;TZID=America/New_York:20300425T200000
DTSTAMP:20260423T082742
CREATED:20250920T000122Z
LAST-MODIFIED:20251109T015706Z
UID:10000818-1903372200-1903377600@devotedcity.com
SUMMARY:G4 Support and Recovery Groups
DESCRIPTION:Find community & biblically based healing at our weekly G4 groups. No registration required\, Thursdays at 6:30pm.\nLearn more.
URL:https://devotedcity.com/event/g4-support-and-recovery-groups/2030-04-25/
LOCATION:Devoted City North Raleigh\, 9500 DURANT RD\, RALEIGH\, NC\, 27614-9721\, United States
CATEGORIES:Cary,North Raleigh
ATTACH;FMTTYPE=image/jpeg:https://devotedcity.com/wp-content/uploads/2024/11/g4-dcc-background.jpg
END:VEVENT
BEGIN:VEVENT
DTSTART;TZID=America/New_York:20300502T183000
DTEND;TZID=America/New_York:20300502T200000
DTSTAMP:20260423T082742
CREATED:20250920T000122Z
LAST-MODIFIED:20251109T015706Z
UID:10000819-1903977000-1903982400@devotedcity.com
SUMMARY:G4 Support and Recovery Groups
DESCRIPTION:Find community & biblically based healing at our weekly G4 groups. No registration required\, Thursdays at 6:30pm.\nLearn more.
URL:https://devotedcity.com/event/g4-support-and-recovery-groups/2030-05-02/
LOCATION:Devoted City North Raleigh\, 9500 DURANT RD\, RALEIGH\, NC\, 27614-9721\, United States
CATEGORIES:Cary,North Raleigh
ATTACH;FMTTYPE=image/jpeg:https://devotedcity.com/wp-content/uploads/2024/11/g4-dcc-background.jpg
END:VEVENT
BEGIN:VEVENT
DTSTART;TZID=America/New_York:20300509T183000
DTEND;TZID=America/New_York:20300509T200000
DTSTAMP:20260423T082742
CREATED:20250920T000122Z
LAST-MODIFIED:20251109T015706Z
UID:10000820-1904581800-1904587200@devotedcity.com
SUMMARY:G4 Support and Recovery Groups
DESCRIPTION:Find community & biblically based healing at our weekly G4 groups. No registration required\, Thursdays at 6:30pm.\nLearn more.
URL:https://devotedcity.com/event/g4-support-and-recovery-groups/2030-05-09/
LOCATION:Devoted City North Raleigh\, 9500 DURANT RD\, RALEIGH\, NC\, 27614-9721\, United States
CATEGORIES:Cary,North Raleigh
ATTACH;FMTTYPE=image/jpeg:https://devotedcity.com/wp-content/uploads/2024/11/g4-dcc-background.jpg
END:VEVENT
BEGIN:VEVENT
DTSTART;TZID=America/New_York:20300516T183000
DTEND;TZID=America/New_York:20300516T200000
DTSTAMP:20260423T082742
CREATED:20250920T000122Z
LAST-MODIFIED:20251109T015706Z
UID:10000821-1905186600-1905192000@devotedcity.com
SUMMARY:G4 Support and Recovery Groups
DESCRIPTION:Find community & biblically based healing at our weekly G4 groups. No registration required\, Thursdays at 6:30pm.\nLearn more.
URL:https://devotedcity.com/event/g4-support-and-recovery-groups/2030-05-16/
LOCATION:Devoted City North Raleigh\, 9500 DURANT RD\, RALEIGH\, NC\, 27614-9721\, United States
CATEGORIES:Cary,North Raleigh
ATTACH;FMTTYPE=image/jpeg:https://devotedcity.com/wp-content/uploads/2024/11/g4-dcc-background.jpg
END:VEVENT
BEGIN:VEVENT
DTSTART;TZID=America/New_York:20300523T183000
DTEND;TZID=America/New_York:20300523T200000
DTSTAMP:20260423T082742
CREATED:20250920T000122Z
LAST-MODIFIED:20251109T015706Z
UID:10000822-1905791400-1905796800@devotedcity.com
SUMMARY:G4 Support and Recovery Groups
DESCRIPTION:Find community & biblically based healing at our weekly G4 groups. No registration required\, Thursdays at 6:30pm.\nLearn more.
URL:https://devotedcity.com/event/g4-support-and-recovery-groups/2030-05-23/
LOCATION:Devoted City North Raleigh\, 9500 DURANT RD\, RALEIGH\, NC\, 27614-9721\, United States
CATEGORIES:Cary,North Raleigh
ATTACH;FMTTYPE=image/jpeg:https://devotedcity.com/wp-content/uploads/2024/11/g4-dcc-background.jpg
END:VEVENT
BEGIN:VEVENT
DTSTART;TZID=America/New_York:20300530T183000
DTEND;TZID=America/New_York:20300530T200000
DTSTAMP:20260423T082742
CREATED:20250920T000122Z
LAST-MODIFIED:20251109T015706Z
UID:10000823-1906396200-1906401600@devotedcity.com
SUMMARY:G4 Support and Recovery Groups
DESCRIPTION:Find community & biblically based healing at our weekly G4 groups. No registration required\, Thursdays at 6:30pm.\nLearn more.
URL:https://devotedcity.com/event/g4-support-and-recovery-groups/2030-05-30/
LOCATION:Devoted City North Raleigh\, 9500 DURANT RD\, RALEIGH\, NC\, 27614-9721\, United States
CATEGORIES:Cary,North Raleigh
ATTACH;FMTTYPE=image/jpeg:https://devotedcity.com/wp-content/uploads/2024/11/g4-dcc-background.jpg
END:VEVENT
BEGIN:VEVENT
DTSTART;TZID=America/New_York:20300606T183000
DTEND;TZID=America/New_York:20300606T200000
DTSTAMP:20260423T082742
CREATED:20250920T000122Z
LAST-MODIFIED:20251109T015706Z
UID:10000824-1907001000-1907006400@devotedcity.com
SUMMARY:G4 Support and Recovery Groups
DESCRIPTION:Find community & biblically based healing at our weekly G4 groups. No registration required\, Thursdays at 6:30pm.\nLearn more.
URL:https://devotedcity.com/event/g4-support-and-recovery-groups/2030-06-06/
LOCATION:Devoted City North Raleigh\, 9500 DURANT RD\, RALEIGH\, NC\, 27614-9721\, United States
CATEGORIES:Cary,North Raleigh
ATTACH;FMTTYPE=image/jpeg:https://devotedcity.com/wp-content/uploads/2024/11/g4-dcc-background.jpg
END:VEVENT
BEGIN:VEVENT
DTSTART;TZID=America/New_York:20300613T183000
DTEND;TZID=America/New_York:20300613T200000
DTSTAMP:20260423T082742
CREATED:20250920T000122Z
LAST-MODIFIED:20251109T015706Z
UID:10000825-1907605800-1907611200@devotedcity.com
SUMMARY:G4 Support and Recovery Groups
DESCRIPTION:Find community & biblically based healing at our weekly G4 groups. No registration required\, Thursdays at 6:30pm.\nLearn more.
URL:https://devotedcity.com/event/g4-support-and-recovery-groups/2030-06-13/
LOCATION:Devoted City North Raleigh\, 9500 DURANT RD\, RALEIGH\, NC\, 27614-9721\, United States
CATEGORIES:Cary,North Raleigh
ATTACH;FMTTYPE=image/jpeg:https://devotedcity.com/wp-content/uploads/2024/11/g4-dcc-background.jpg
END:VEVENT
BEGIN:VEVENT
DTSTART;TZID=America/New_York:20300620T183000
DTEND;TZID=America/New_York:20300620T200000
DTSTAMP:20260423T082742
CREATED:20250920T000122Z
LAST-MODIFIED:20251109T015706Z
UID:10000826-1908210600-1908216000@devotedcity.com
SUMMARY:G4 Support and Recovery Groups
DESCRIPTION:Find community & biblically based healing at our weekly G4 groups. No registration required\, Thursdays at 6:30pm.\nLearn more.
URL:https://devotedcity.com/event/g4-support-and-recovery-groups/2030-06-20/
LOCATION:Devoted City North Raleigh\, 9500 DURANT RD\, RALEIGH\, NC\, 27614-9721\, United States
CATEGORIES:Cary,North Raleigh
ATTACH;FMTTYPE=image/jpeg:https://devotedcity.com/wp-content/uploads/2024/11/g4-dcc-background.jpg
END:VEVENT
BEGIN:VEVENT
DTSTART;TZID=America/New_York:20300627T183000
DTEND;TZID=America/New_York:20300627T200000
DTSTAMP:20260423T082742
CREATED:20250920T000122Z
LAST-MODIFIED:20251109T015706Z
UID:10000827-1908815400-1908820800@devotedcity.com
SUMMARY:G4 Support and Recovery Groups
DESCRIPTION:Find community & biblically based healing at our weekly G4 groups. No registration required\, Thursdays at 6:30pm.\nLearn more.
URL:https://devotedcity.com/event/g4-support-and-recovery-groups/2030-06-27/
LOCATION:Devoted City North Raleigh\, 9500 DURANT RD\, RALEIGH\, NC\, 27614-9721\, United States
CATEGORIES:Cary,North Raleigh
ATTACH;FMTTYPE=image/jpeg:https://devotedcity.com/wp-content/uploads/2024/11/g4-dcc-background.jpg
END:VEVENT
BEGIN:VEVENT
DTSTART;TZID=America/New_York:20300704T183000
DTEND;TZID=America/New_York:20300704T200000
DTSTAMP:20260423T082742
CREATED:20250920T000122Z
LAST-MODIFIED:20251109T015706Z
UID:10000828-1909420200-1909425600@devotedcity.com
SUMMARY:G4 Support and Recovery Groups
DESCRIPTION:Find community & biblically based healing at our weekly G4 groups. No registration required\, Thursdays at 6:30pm.\nLearn more.
URL:https://devotedcity.com/event/g4-support-and-recovery-groups/2030-07-04/
LOCATION:Devoted City North Raleigh\, 9500 DURANT RD\, RALEIGH\, NC\, 27614-9721\, United States
CATEGORIES:Cary,North Raleigh
ATTACH;FMTTYPE=image/jpeg:https://devotedcity.com/wp-content/uploads/2024/11/g4-dcc-background.jpg
END:VEVENT
BEGIN:VEVENT
DTSTART;TZID=America/New_York:20300711T183000
DTEND;TZID=America/New_York:20300711T200000
DTSTAMP:20260423T082742
CREATED:20250920T000122Z
LAST-MODIFIED:20251109T015706Z
UID:10000829-1910025000-1910030400@devotedcity.com
SUMMARY:G4 Support and Recovery Groups
DESCRIPTION:Find community & biblically based healing at our weekly G4 groups. No registration required\, Thursdays at 6:30pm.\nLearn more.
URL:https://devotedcity.com/event/g4-support-and-recovery-groups/2030-07-11/
LOCATION:Devoted City North Raleigh\, 9500 DURANT RD\, RALEIGH\, NC\, 27614-9721\, United States
CATEGORIES:Cary,North Raleigh
ATTACH;FMTTYPE=image/jpeg:https://devotedcity.com/wp-content/uploads/2024/11/g4-dcc-background.jpg
END:VEVENT
BEGIN:VEVENT
DTSTART;TZID=America/New_York:20300718T183000
DTEND;TZID=America/New_York:20300718T200000
DTSTAMP:20260423T082742
CREATED:20250920T000122Z
LAST-MODIFIED:20251109T015706Z
UID:10000830-1910629800-1910635200@devotedcity.com
SUMMARY:G4 Support and Recovery Groups
DESCRIPTION:Find community & biblically based healing at our weekly G4 groups. No registration required\, Thursdays at 6:30pm.\nLearn more.
URL:https://devotedcity.com/event/g4-support-and-recovery-groups/2030-07-18/
LOCATION:Devoted City North Raleigh\, 9500 DURANT RD\, RALEIGH\, NC\, 27614-9721\, United States
CATEGORIES:Cary,North Raleigh
ATTACH;FMTTYPE=image/jpeg:https://devotedcity.com/wp-content/uploads/2024/11/g4-dcc-background.jpg
END:VEVENT
BEGIN:VEVENT
DTSTART;TZID=America/New_York:20300725T183000
DTEND;TZID=America/New_York:20300725T200000
DTSTAMP:20260423T082742
CREATED:20250920T000122Z
LAST-MODIFIED:20251109T015706Z
UID:10000831-1911234600-1911240000@devotedcity.com
SUMMARY:G4 Support and Recovery Groups
DESCRIPTION:Find community & biblically based healing at our weekly G4 groups. No registration required\, Thursdays at 6:30pm.\nLearn more.
URL:https://devotedcity.com/event/g4-support-and-recovery-groups/2030-07-25/
LOCATION:Devoted City North Raleigh\, 9500 DURANT RD\, RALEIGH\, NC\, 27614-9721\, United States
CATEGORIES:Cary,North Raleigh
ATTACH;FMTTYPE=image/jpeg:https://devotedcity.com/wp-content/uploads/2024/11/g4-dcc-background.jpg
END:VEVENT
BEGIN:VEVENT
DTSTART;TZID=America/New_York:20300801T183000
DTEND;TZID=America/New_York:20300801T200000
DTSTAMP:20260423T082742
CREATED:20250920T000122Z
LAST-MODIFIED:20251109T015706Z
UID:10000832-1911839400-1911844800@devotedcity.com
SUMMARY:G4 Support and Recovery Groups
DESCRIPTION:Find community & biblically based healing at our weekly G4 groups. No registration required\, Thursdays at 6:30pm.\nLearn more.
URL:https://devotedcity.com/event/g4-support-and-recovery-groups/2030-08-01/
LOCATION:Devoted City North Raleigh\, 9500 DURANT RD\, RALEIGH\, NC\, 27614-9721\, United States
CATEGORIES:Cary,North Raleigh
ATTACH;FMTTYPE=image/jpeg:https://devotedcity.com/wp-content/uploads/2024/11/g4-dcc-background.jpg
END:VEVENT
BEGIN:VEVENT
DTSTART;TZID=America/New_York:20300808T183000
DTEND;TZID=America/New_York:20300808T200000
DTSTAMP:20260423T082742
CREATED:20250920T000122Z
LAST-MODIFIED:20251109T015706Z
UID:10000833-1912444200-1912449600@devotedcity.com
SUMMARY:G4 Support and Recovery Groups
DESCRIPTION:Find community & biblically based healing at our weekly G4 groups. No registration required\, Thursdays at 6:30pm.\nLearn more.
URL:https://devotedcity.com/event/g4-support-and-recovery-groups/2030-08-08/
LOCATION:Devoted City North Raleigh\, 9500 DURANT RD\, RALEIGH\, NC\, 27614-9721\, United States
CATEGORIES:Cary,North Raleigh
ATTACH;FMTTYPE=image/jpeg:https://devotedcity.com/wp-content/uploads/2024/11/g4-dcc-background.jpg
END:VEVENT
BEGIN:VEVENT
DTSTART;TZID=America/New_York:20300815T183000
DTEND;TZID=America/New_York:20300815T200000
DTSTAMP:20260423T082742
CREATED:20250920T000122Z
LAST-MODIFIED:20251109T015706Z
UID:10000834-1913049000-1913054400@devotedcity.com
SUMMARY:G4 Support and Recovery Groups
DESCRIPTION:Find community & biblically based healing at our weekly G4 groups. No registration required\, Thursdays at 6:30pm.\nLearn more.
URL:https://devotedcity.com/event/g4-support-and-recovery-groups/2030-08-15/
LOCATION:Devoted City North Raleigh\, 9500 DURANT RD\, RALEIGH\, NC\, 27614-9721\, United States
CATEGORIES:Cary,North Raleigh
ATTACH;FMTTYPE=image/jpeg:https://devotedcity.com/wp-content/uploads/2024/11/g4-dcc-background.jpg
END:VEVENT
BEGIN:VEVENT
DTSTART;TZID=America/New_York:20300822T183000
DTEND;TZID=America/New_York:20300822T200000
DTSTAMP:20260423T082742
CREATED:20250920T000122Z
LAST-MODIFIED:20251109T015706Z
UID:10000835-1913653800-1913659200@devotedcity.com
SUMMARY:G4 Support and Recovery Groups
DESCRIPTION:Find community & biblically based healing at our weekly G4 groups. No registration required\, Thursdays at 6:30pm.\nLearn more.
URL:https://devotedcity.com/event/g4-support-and-recovery-groups/2030-08-22/
LOCATION:Devoted City North Raleigh\, 9500 DURANT RD\, RALEIGH\, NC\, 27614-9721\, United States
CATEGORIES:Cary,North Raleigh
ATTACH;FMTTYPE=image/jpeg:https://devotedcity.com/wp-content/uploads/2024/11/g4-dcc-background.jpg
END:VEVENT
BEGIN:VEVENT
DTSTART;TZID=America/New_York:20300829T183000
DTEND;TZID=America/New_York:20300829T200000
DTSTAMP:20260423T082742
CREATED:20250920T000122Z
LAST-MODIFIED:20251109T015706Z
UID:10000836-1914258600-1914264000@devotedcity.com
SUMMARY:G4 Support and Recovery Groups
DESCRIPTION:Find community & biblically based healing at our weekly G4 groups. No registration required\, Thursdays at 6:30pm.\nLearn more.
URL:https://devotedcity.com/event/g4-support-and-recovery-groups/2030-08-29/
LOCATION:Devoted City North Raleigh\, 9500 DURANT RD\, RALEIGH\, NC\, 27614-9721\, United States
CATEGORIES:Cary,North Raleigh
ATTACH;FMTTYPE=image/jpeg:https://devotedcity.com/wp-content/uploads/2024/11/g4-dcc-background.jpg
END:VEVENT
BEGIN:VEVENT
DTSTART;TZID=America/New_York:20300905T183000
DTEND;TZID=America/New_York:20300905T200000
DTSTAMP:20260423T082742
CREATED:20250920T000122Z
LAST-MODIFIED:20251109T015706Z
UID:10000837-1914863400-1914868800@devotedcity.com
SUMMARY:G4 Support and Recovery Groups
DESCRIPTION:Find community & biblically based healing at our weekly G4 groups. No registration required\, Thursdays at 6:30pm.\nLearn more.
URL:https://devotedcity.com/event/g4-support-and-recovery-groups/2030-09-05/
LOCATION:Devoted City North Raleigh\, 9500 DURANT RD\, RALEIGH\, NC\, 27614-9721\, United States
CATEGORIES:Cary,North Raleigh
ATTACH;FMTTYPE=image/jpeg:https://devotedcity.com/wp-content/uploads/2024/11/g4-dcc-background.jpg
END:VEVENT
END:VCALENDAR