BEGIN:VCALENDAR
VERSION:2.0
PRODID:-//Devoted City - ECPv6.15.20//NONSGML v1.0//EN
CALSCALE:GREGORIAN
METHOD:PUBLISH
X-WR-CALNAME:Devoted City
X-ORIGINAL-URL:https://devotedcity.com
X-WR-CALDESC:Events for Devoted City
REFRESH-INTERVAL;VALUE=DURATION:PT1H
X-Robots-Tag:noindex
X-PUBLISHED-TTL:PT1H
BEGIN:VTIMEZONE
TZID:America/New_York
BEGIN:DAYLIGHT
TZOFFSETFROM:-0500
TZOFFSETTO:-0400
TZNAME:EDT
DTSTART:20240310T070000
END:DAYLIGHT
BEGIN:STANDARD
TZOFFSETFROM:-0400
TZOFFSETTO:-0500
TZNAME:EST
DTSTART:20241103T060000
END:STANDARD
BEGIN:DAYLIGHT
TZOFFSETFROM:-0500
TZOFFSETTO:-0400
TZNAME:EDT
DTSTART:20250309T070000
END:DAYLIGHT
BEGIN:STANDARD
TZOFFSETFROM:-0400
TZOFFSETTO:-0500
TZNAME:EST
DTSTART:20251102T060000
END:STANDARD
BEGIN:DAYLIGHT
TZOFFSETFROM:-0500
TZOFFSETTO:-0400
TZNAME:EDT
DTSTART:20260308T070000
END:DAYLIGHT
BEGIN:STANDARD
TZOFFSETFROM:-0400
TZOFFSETTO:-0500
TZNAME:EST
DTSTART:20261101T060000
END:STANDARD
END:VTIMEZONE
BEGIN:VEVENT
DTSTART;TZID=America/New_York:20251012T073000
DTEND;TZID=America/New_York:20251012T123000
DTSTAMP:20260424T233037
CREATED:20251001T151617Z
LAST-MODIFIED:20251009T143110Z
UID:10000471-1760254200-1760272200@devotedcity.com
SUMMARY:Bumper Crop - Supply Donation Day
DESCRIPTION:We love serving our city! Here’s a great opportunity to help our neighbors. \nOn the weekends of October 11/12 and 18/19\, bring items from the list below and set the items behind your car in the parking lot. During the worship service\, volunteers will patrol the lot and pick your donations up. (If it rains\, please bring them inside with you.) \nFor Trunk or Treat (at Devoted City and Durant Road Elementary): Candy! \nFor Tri-Area Ministries: Peanut Butter\, Canned Foods\, Pasta\, Mac and Cheese\, Crackers\, Dried Beans\, Rice\, Stuffing Mix\, Instant Mashed Potatoes\, Cranberry Sauce Canned Yams/Sweet potatoes\, Gravy mix (packet\, NO JARS)\, Cornbread/Biscuit Mix
URL:https://devotedcity.com/event/bumper-crop-supply-donation-day/
LOCATION:NC
CATEGORIES:North Raleigh
ATTACH;FMTTYPE=image/png:https://devotedcity.com/wp-content/uploads/2025/09/Bumper-Crop-ENEWS.png
END:VEVENT
END:VCALENDAR