BEGIN:VCALENDAR
VERSION:2.0
PRODID:-//Devoted City - ECPv6.15.20//NONSGML v1.0//EN
CALSCALE:GREGORIAN
METHOD:PUBLISH
X-WR-CALNAME:Devoted City
X-ORIGINAL-URL:https://devotedcity.com
X-WR-CALDESC:Events for Devoted City
REFRESH-INTERVAL;VALUE=DURATION:PT1H
X-Robots-Tag:noindex
X-PUBLISHED-TTL:PT1H
BEGIN:VTIMEZONE
TZID:America/New_York
BEGIN:DAYLIGHT
TZOFFSETFROM:-0500
TZOFFSETTO:-0400
TZNAME:EDT
DTSTART:20250309T070000
END:DAYLIGHT
BEGIN:STANDARD
TZOFFSETFROM:-0400
TZOFFSETTO:-0500
TZNAME:EST
DTSTART:20251102T060000
END:STANDARD
BEGIN:DAYLIGHT
TZOFFSETFROM:-0500
TZOFFSETTO:-0400
TZNAME:EDT
DTSTART:20260308T070000
END:DAYLIGHT
BEGIN:STANDARD
TZOFFSETFROM:-0400
TZOFFSETTO:-0500
TZNAME:EST
DTSTART:20261101T060000
END:STANDARD
BEGIN:DAYLIGHT
TZOFFSETFROM:-0500
TZOFFSETTO:-0400
TZNAME:EDT
DTSTART:20270314T070000
END:DAYLIGHT
BEGIN:STANDARD
TZOFFSETFROM:-0400
TZOFFSETTO:-0500
TZNAME:EST
DTSTART:20271107T060000
END:STANDARD
END:VTIMEZONE
BEGIN:VEVENT
DTSTART;TZID=America/New_York:20260205T183000
DTEND;TZID=America/New_York:20260205T200000
DTSTAMP:20260424T194022
CREATED:20250920T000122Z
LAST-MODIFIED:20251109T015706Z
UID:10000598-1770316200-1770321600@devotedcity.com
SUMMARY:G4 Support and Recovery Groups
DESCRIPTION:Find community & biblically based healing at our weekly G4 groups. No registration required\, Thursdays at 6:30pm.\nLearn more.
URL:https://devotedcity.com/event/g4-support-and-recovery-groups/2026-02-05/
LOCATION:Devoted City North Raleigh\, 9500 DURANT RD\, RALEIGH\, NC\, 27614-9721\, United States
CATEGORIES:Cary,North Raleigh
ATTACH;FMTTYPE=image/jpeg:https://devotedcity.com/wp-content/uploads/2024/11/g4-dcc-background.jpg
END:VEVENT
BEGIN:VEVENT
DTSTART;TZID=America/New_York:20260206T183000
DTEND;TZID=America/New_York:20260206T203000
DTSTAMP:20260424T194022
CREATED:20260103T210531Z
LAST-MODIFIED:20260103T210531Z
UID:10000850-1770402600-1770409800@devotedcity.com
SUMMARY:MOVE
DESCRIPTION:If you’re new to Devoted City\, MOVE is for you! Come meet some of the Devoted City Staff\, others who are new to the church\, and get a chance to get connected. Dinner is provided! Register today so we can prepare for you. \nRegister for MOVE at North Raleigh\nRegister for MOVE at Cary
URL:https://devotedcity.com/event/move-2/
LOCATION:Devoted City North Raleigh\, 9500 DURANT RD\, RALEIGH\, NC\, 27614-9721\, United States
CATEGORIES:Cary,Move,North Raleigh
ATTACH;FMTTYPE=image/jpeg:https://devotedcity.com/wp-content/uploads/2024/01/Move-Title-Slide.jpg
END:VEVENT
BEGIN:VEVENT
DTSTART;TZID=America/New_York:20260212T183000
DTEND;TZID=America/New_York:20260212T200000
DTSTAMP:20260424T194022
CREATED:20250920T000122Z
LAST-MODIFIED:20251109T015706Z
UID:10000599-1770921000-1770926400@devotedcity.com
SUMMARY:G4 Support and Recovery Groups
DESCRIPTION:Find community & biblically based healing at our weekly G4 groups. No registration required\, Thursdays at 6:30pm.\nLearn more.
URL:https://devotedcity.com/event/g4-support-and-recovery-groups/2026-02-12/
LOCATION:Devoted City North Raleigh\, 9500 DURANT RD\, RALEIGH\, NC\, 27614-9721\, United States
CATEGORIES:Cary,North Raleigh
ATTACH;FMTTYPE=image/jpeg:https://devotedcity.com/wp-content/uploads/2024/11/g4-dcc-background.jpg
END:VEVENT
BEGIN:VEVENT
DTSTART;TZID=America/New_York:20260219T183000
DTEND;TZID=America/New_York:20260219T200000
DTSTAMP:20260424T194022
CREATED:20250920T000122Z
LAST-MODIFIED:20251109T015706Z
UID:10000600-1771525800-1771531200@devotedcity.com
SUMMARY:G4 Support and Recovery Groups
DESCRIPTION:Find community & biblically based healing at our weekly G4 groups. No registration required\, Thursdays at 6:30pm.\nLearn more.
URL:https://devotedcity.com/event/g4-support-and-recovery-groups/2026-02-19/
LOCATION:Devoted City North Raleigh\, 9500 DURANT RD\, RALEIGH\, NC\, 27614-9721\, United States
CATEGORIES:Cary,North Raleigh
ATTACH;FMTTYPE=image/jpeg:https://devotedcity.com/wp-content/uploads/2024/11/g4-dcc-background.jpg
END:VEVENT
BEGIN:VEVENT
DTSTART;TZID=America/New_York:20260221T100000
DTEND;TZID=America/New_York:20260221T123000
DTSTAMP:20260424T194022
CREATED:20250715T135354Z
LAST-MODIFIED:20260212T154858Z
UID:10000201-1771668000-1771677000@devotedcity.com
SUMMARY:Child Dedication: Spring 2026
DESCRIPTION:We are so excited to celebrate with you and your family and to stand beside you in your parenting journey during our first Child Dedication Celebration for Devoted City Church! This event includes a class for parents\, followed by a dedication ceremony where family and friends are invited to join. \nChildcare will be available during the class portion. Breakfast will be provided for parents. \nRegistration is required by Tuesday\, February 17: Sign up HERE
URL:https://devotedcity.com/event/child-dedication-fall-2025/
LOCATION:Devoted City North Raleigh\, 9500 DURANT RD\, RALEIGH\, NC\, 27614-9721\, United States
CATEGORIES:Kids,North Raleigh
ATTACH;FMTTYPE=image/jpeg:https://devotedcity.com/wp-content/uploads/2024/08/DCC-Child-Dedication-1-1.jpg
ORGANIZER;CN="Devoted City Kids":MAILTO:kids@devotedcity.com
END:VEVENT
BEGIN:VEVENT
DTSTART;TZID=America/New_York:20260226T183000
DTEND;TZID=America/New_York:20260226T200000
DTSTAMP:20260424T194022
CREATED:20250920T000122Z
LAST-MODIFIED:20251109T015706Z
UID:10000601-1772130600-1772136000@devotedcity.com
SUMMARY:G4 Support and Recovery Groups
DESCRIPTION:Find community & biblically based healing at our weekly G4 groups. No registration required\, Thursdays at 6:30pm.\nLearn more.
URL:https://devotedcity.com/event/g4-support-and-recovery-groups/2026-02-26/
LOCATION:Devoted City North Raleigh\, 9500 DURANT RD\, RALEIGH\, NC\, 27614-9721\, United States
CATEGORIES:Cary,North Raleigh
ATTACH;FMTTYPE=image/jpeg:https://devotedcity.com/wp-content/uploads/2024/11/g4-dcc-background.jpg
END:VEVENT
END:VCALENDAR