BEGIN:VCALENDAR
VERSION:2.0
PRODID:-//Devoted City - ECPv6.15.20//NONSGML v1.0//EN
CALSCALE:GREGORIAN
METHOD:PUBLISH
X-WR-CALNAME:Devoted City
X-ORIGINAL-URL:https://devotedcity.com
X-WR-CALDESC:Events for Devoted City
REFRESH-INTERVAL;VALUE=DURATION:PT1H
X-Robots-Tag:noindex
X-PUBLISHED-TTL:PT1H
BEGIN:VTIMEZONE
TZID:America/New_York
BEGIN:DAYLIGHT
TZOFFSETFROM:-0500
TZOFFSETTO:-0400
TZNAME:EDT
DTSTART:20240310T070000
END:DAYLIGHT
BEGIN:STANDARD
TZOFFSETFROM:-0400
TZOFFSETTO:-0500
TZNAME:EST
DTSTART:20241103T060000
END:STANDARD
BEGIN:DAYLIGHT
TZOFFSETFROM:-0500
TZOFFSETTO:-0400
TZNAME:EDT
DTSTART:20250309T070000
END:DAYLIGHT
BEGIN:STANDARD
TZOFFSETFROM:-0400
TZOFFSETTO:-0500
TZNAME:EST
DTSTART:20251102T060000
END:STANDARD
BEGIN:DAYLIGHT
TZOFFSETFROM:-0500
TZOFFSETTO:-0400
TZNAME:EDT
DTSTART:20260308T070000
END:DAYLIGHT
BEGIN:STANDARD
TZOFFSETFROM:-0400
TZOFFSETTO:-0500
TZNAME:EST
DTSTART:20261101T060000
END:STANDARD
END:VTIMEZONE
BEGIN:VEVENT
DTSTART;TZID=America/New_York:20251106T183000
DTEND;TZID=America/New_York:20251106T200000
DTSTAMP:20260424T221757
CREATED:20250920T000122Z
LAST-MODIFIED:20251109T015706Z
UID:10000588-1762453800-1762459200@devotedcity.com
SUMMARY:G4 Support and Recovery Groups
DESCRIPTION:Find community & biblically based healing at our weekly G4 groups. No registration required\, Thursdays at 6:30pm.\nLearn more.
URL:https://devotedcity.com/event/g4-support-and-recovery-groups/2025-11-06/
LOCATION:Devoted City North Raleigh\, 9500 DURANT RD\, RALEIGH\, NC\, 27614-9721\, United States
CATEGORIES:Cary,North Raleigh
ATTACH;FMTTYPE=image/jpeg:https://devotedcity.com/wp-content/uploads/2024/11/g4-dcc-background.jpg
END:VEVENT
BEGIN:VEVENT
DTSTART;TZID=America/New_York:20251108T183000
DTEND;TZID=America/New_York:20251108T203000
DTSTAMP:20260424T221757
CREATED:20250919T234014Z
LAST-MODIFIED:20250919T234014Z
UID:10000207-1762626600-1762633800@devotedcity.com
SUMMARY:Young Adults November 8
DESCRIPTION:All Young Adults are welcome to stay for a fun time after the Saturday night worship service. This month: Music Bingo and Walking Tacos!
URL:https://devotedcity.com/event/young-adults-november-8/
LOCATION:Devoted City North Raleigh\, 9500 DURANT RD\, RALEIGH\, NC\, 27614-9721\, United States
CATEGORIES:Cary,North Raleigh,Young Adults
ATTACH;FMTTYPE=image/png:https://devotedcity.com/wp-content/uploads/2024/05/YA-slide.png
END:VEVENT
BEGIN:VEVENT
DTSTART;TZID=America/New_York:20251113T183000
DTEND;TZID=America/New_York:20251113T200000
DTSTAMP:20260424T221757
CREATED:20250920T000122Z
LAST-MODIFIED:20251109T015706Z
UID:10000589-1763058600-1763064000@devotedcity.com
SUMMARY:G4 Support and Recovery Groups
DESCRIPTION:Find community & biblically based healing at our weekly G4 groups. No registration required\, Thursdays at 6:30pm.\nLearn more.
URL:https://devotedcity.com/event/g4-support-and-recovery-groups/2025-11-13/
LOCATION:Devoted City North Raleigh\, 9500 DURANT RD\, RALEIGH\, NC\, 27614-9721\, United States
CATEGORIES:Cary,North Raleigh
ATTACH;FMTTYPE=image/jpeg:https://devotedcity.com/wp-content/uploads/2024/11/g4-dcc-background.jpg
END:VEVENT
BEGIN:VEVENT
DTSTART;TZID=America/New_York:20251114T183000
DTEND;TZID=America/New_York:20251114T203000
DTSTAMP:20260424T221757
CREATED:20250911T183057Z
LAST-MODIFIED:20250918T181151Z
UID:10000039-1763145000-1763152200@devotedcity.com
SUMMARY:MOVE at North Raleigh
DESCRIPTION:MOVE is an event designed for those who are new to Devoted City. You’ll learn about our vision and mission\, and how you can find community and take next steps. We gather for dinner on a Friday night where you’ll meet some of the staff and others new to Devoted City. \n\n\nThe next MOVE at our North Raleigh campus is on November 14th at 6:30pm. Sign up here.\n\n\nIf you’re looking for our Cary MOVE event\, visit the MOVE webpage for more information.
URL:https://devotedcity.com/event/move-at-north-raleigh-nov/
LOCATION:Devoted City North Raleigh\, 9500 DURANT RD\, RALEIGH\, NC\, 27614-9721\, United States
CATEGORIES:Move,North Raleigh
ATTACH;FMTTYPE=image/jpeg:https://devotedcity.com/wp-content/uploads/2024/01/Move-Title-Slide.jpg
END:VEVENT
BEGIN:VEVENT
DTSTART;TZID=America/New_York:20251120T183000
DTEND;TZID=America/New_York:20251120T200000
DTSTAMP:20260424T221757
CREATED:20250920T000122Z
LAST-MODIFIED:20251109T015706Z
UID:10000590-1763663400-1763668800@devotedcity.com
SUMMARY:G4 Support and Recovery Groups
DESCRIPTION:Find community & biblically based healing at our weekly G4 groups. No registration required\, Thursdays at 6:30pm.\nLearn more.
URL:https://devotedcity.com/event/g4-support-and-recovery-groups/2025-11-20/
LOCATION:Devoted City North Raleigh\, 9500 DURANT RD\, RALEIGH\, NC\, 27614-9721\, United States
CATEGORIES:Cary,North Raleigh
ATTACH;FMTTYPE=image/jpeg:https://devotedcity.com/wp-content/uploads/2024/11/g4-dcc-background.jpg
END:VEVENT
END:VCALENDAR