BEGIN:VCALENDAR
VERSION:2.0
PRODID:-//Devoted City - ECPv6.15.20//NONSGML v1.0//EN
CALSCALE:GREGORIAN
METHOD:PUBLISH
X-WR-CALNAME:Devoted City
X-ORIGINAL-URL:https://devotedcity.com
X-WR-CALDESC:Events for Devoted City
REFRESH-INTERVAL;VALUE=DURATION:PT1H
X-Robots-Tag:noindex
X-PUBLISHED-TTL:PT1H
BEGIN:VTIMEZONE
TZID:America/New_York
BEGIN:DAYLIGHT
TZOFFSETFROM:-0500
TZOFFSETTO:-0400
TZNAME:EDT
DTSTART:20240310T070000
END:DAYLIGHT
BEGIN:STANDARD
TZOFFSETFROM:-0400
TZOFFSETTO:-0500
TZNAME:EST
DTSTART:20241103T060000
END:STANDARD
BEGIN:DAYLIGHT
TZOFFSETFROM:-0500
TZOFFSETTO:-0400
TZNAME:EDT
DTSTART:20250309T070000
END:DAYLIGHT
BEGIN:STANDARD
TZOFFSETFROM:-0400
TZOFFSETTO:-0500
TZNAME:EST
DTSTART:20251102T060000
END:STANDARD
BEGIN:DAYLIGHT
TZOFFSETFROM:-0500
TZOFFSETTO:-0400
TZNAME:EDT
DTSTART:20260308T070000
END:DAYLIGHT
BEGIN:STANDARD
TZOFFSETFROM:-0400
TZOFFSETTO:-0500
TZNAME:EST
DTSTART:20261101T060000
END:STANDARD
END:VTIMEZONE
BEGIN:VEVENT
DTSTART;TZID=America/New_York:20251213T183000
DTEND;TZID=America/New_York:20251213T203000
DTSTAMP:20260425T065222
CREATED:20250919T234322Z
LAST-MODIFIED:20250919T234322Z
UID:10000208-1765650600-1765657800@devotedcity.com
SUMMARY:Young Adults December 13
DESCRIPTION:All Young Adults are welcome to join us for a Christmas Lights Walk and Hot Cocoa. Meet at Bedford Food and Drink; 3607 Falls River Ave\, Suite 125 at 6:30pm.
URL:https://devotedcity.com/event/young-adults-december-13/
LOCATION:Devoted City North Raleigh\, 9500 DURANT RD\, RALEIGH\, NC\, 27614-9721\, United States
CATEGORIES:Cary,North Raleigh,Young Adults
ATTACH;FMTTYPE=image/png:https://devotedcity.com/wp-content/uploads/2024/05/YA-slide.png
END:VEVENT
BEGIN:VEVENT
DTSTART;TZID=America/New_York:20251212T180000
DTEND;TZID=America/New_York:20251212T193000
DTSTAMP:20260425T065222
CREATED:20251110T152429Z
LAST-MODIFIED:20251112T170047Z
UID:10000847-1765562400-1765567800@devotedcity.com
SUMMARY:Christmas Jam
DESCRIPTION:Christmas Jam is an event for kids AND parents! We’ll celebrate the birth of Jesus\, sing songs\, drink hot cocoa\, and we have some festive activities planned. Our team wants to provide a fun evening for you and your children this holiday season\, so mark your calendars for December 12 at 6pm!
URL:https://devotedcity.com/event/christmas-jam-2025/
LOCATION:Devoted City North Raleigh\, 9500 DURANT RD\, RALEIGH\, NC\, 27614-9721\, United States
CATEGORIES:Cary,Kids,North Raleigh
ATTACH;FMTTYPE=image/png:https://devotedcity.com/wp-content/uploads/2025/11/Christmas-Jam-2025-TV-Slide.png
ORGANIZER;CN="Devoted City Kids":MAILTO:kids@devotedcity.com
END:VEVENT
BEGIN:VEVENT
DTSTART;TZID=America/New_York:20251211T183000
DTEND;TZID=America/New_York:20251211T200000
DTSTAMP:20260425T065222
CREATED:20250920T000122Z
LAST-MODIFIED:20251109T015706Z
UID:10000592-1765477800-1765483200@devotedcity.com
SUMMARY:G4 Support and Recovery Groups
DESCRIPTION:Find community & biblically based healing at our weekly G4 groups. No registration required\, Thursdays at 6:30pm.\nLearn more.
URL:https://devotedcity.com/event/g4-support-and-recovery-groups/2025-12-11/
LOCATION:Devoted City North Raleigh\, 9500 DURANT RD\, RALEIGH\, NC\, 27614-9721\, United States
CATEGORIES:Cary,North Raleigh
ATTACH;FMTTYPE=image/jpeg:https://devotedcity.com/wp-content/uploads/2024/11/g4-dcc-background.jpg
END:VEVENT
BEGIN:VEVENT
DTSTART;TZID=America/New_York:20251204T183000
DTEND;TZID=America/New_York:20251204T200000
DTSTAMP:20260425T065222
CREATED:20250920T000122Z
LAST-MODIFIED:20251109T015706Z
UID:10000591-1764873000-1764878400@devotedcity.com
SUMMARY:G4 Support and Recovery Groups
DESCRIPTION:Find community & biblically based healing at our weekly G4 groups. No registration required\, Thursdays at 6:30pm.\nLearn more.
URL:https://devotedcity.com/event/g4-support-and-recovery-groups/2025-12-04/
LOCATION:Devoted City North Raleigh\, 9500 DURANT RD\, RALEIGH\, NC\, 27614-9721\, United States
CATEGORIES:Cary,North Raleigh
ATTACH;FMTTYPE=image/jpeg:https://devotedcity.com/wp-content/uploads/2024/11/g4-dcc-background.jpg
END:VEVENT
BEGIN:VEVENT
DTSTART;TZID=America/New_York:20251120T183000
DTEND;TZID=America/New_York:20251120T200000
DTSTAMP:20260425T065222
CREATED:20250920T000122Z
LAST-MODIFIED:20251109T015706Z
UID:10000590-1763663400-1763668800@devotedcity.com
SUMMARY:G4 Support and Recovery Groups
DESCRIPTION:Find community & biblically based healing at our weekly G4 groups. No registration required\, Thursdays at 6:30pm.\nLearn more.
URL:https://devotedcity.com/event/g4-support-and-recovery-groups/2025-11-20/
LOCATION:Devoted City North Raleigh\, 9500 DURANT RD\, RALEIGH\, NC\, 27614-9721\, United States
CATEGORIES:Cary,North Raleigh
ATTACH;FMTTYPE=image/jpeg:https://devotedcity.com/wp-content/uploads/2024/11/g4-dcc-background.jpg
END:VEVENT
BEGIN:VEVENT
DTSTART;TZID=America/New_York:20251114T183000
DTEND;TZID=America/New_York:20251114T203000
DTSTAMP:20260425T065222
CREATED:20240319T183719Z
LAST-MODIFIED:20250918T181232Z
UID:10000035-1763145000-1763152200@devotedcity.com
SUMMARY:MOVE at Cary
DESCRIPTION:MOVE is an event designed for those who are new to Devoted City. You’ll learn about our vision and mission\, and how you can find community and take next steps. We gather for dinner on a Friday night where you’ll meet some of the staff and others new to Devoted City. \n\n\n\n\n\n\n\n\n\n\n\nThe next MOVE at our Cary campus is on November 14 at 6:30pm. Sign up here.\n\n\nIf you’re looking for our North Raleigh MOVE event\, visit the MOVE webpage for more information.
URL:https://devotedcity.com/event/move-at-cary-nov/
LOCATION:Devoted City Cary\, 590 Westhigh St\, Cary\, 27513\, United States
CATEGORIES:Cary,Move
ATTACH;FMTTYPE=image/jpeg:https://devotedcity.com/wp-content/uploads/2024/01/Move-Title-Slide.jpg
END:VEVENT
BEGIN:VEVENT
DTSTART;TZID=America/New_York:20251113T183000
DTEND;TZID=America/New_York:20251113T200000
DTSTAMP:20260425T065222
CREATED:20250920T000122Z
LAST-MODIFIED:20251109T015706Z
UID:10000589-1763058600-1763064000@devotedcity.com
SUMMARY:G4 Support and Recovery Groups
DESCRIPTION:Find community & biblically based healing at our weekly G4 groups. No registration required\, Thursdays at 6:30pm.\nLearn more.
URL:https://devotedcity.com/event/g4-support-and-recovery-groups/2025-11-13/
LOCATION:Devoted City North Raleigh\, 9500 DURANT RD\, RALEIGH\, NC\, 27614-9721\, United States
CATEGORIES:Cary,North Raleigh
ATTACH;FMTTYPE=image/jpeg:https://devotedcity.com/wp-content/uploads/2024/11/g4-dcc-background.jpg
END:VEVENT
BEGIN:VEVENT
DTSTART;TZID=America/New_York:20251108T183000
DTEND;TZID=America/New_York:20251108T203000
DTSTAMP:20260425T065222
CREATED:20250919T234014Z
LAST-MODIFIED:20250919T234014Z
UID:10000207-1762626600-1762633800@devotedcity.com
SUMMARY:Young Adults November 8
DESCRIPTION:All Young Adults are welcome to stay for a fun time after the Saturday night worship service. This month: Music Bingo and Walking Tacos!
URL:https://devotedcity.com/event/young-adults-november-8/
LOCATION:Devoted City North Raleigh\, 9500 DURANT RD\, RALEIGH\, NC\, 27614-9721\, United States
CATEGORIES:Cary,North Raleigh,Young Adults
ATTACH;FMTTYPE=image/png:https://devotedcity.com/wp-content/uploads/2024/05/YA-slide.png
END:VEVENT
BEGIN:VEVENT
DTSTART;TZID=America/New_York:20251106T183000
DTEND;TZID=America/New_York:20251106T200000
DTSTAMP:20260425T065222
CREATED:20250920T000122Z
LAST-MODIFIED:20251109T015706Z
UID:10000588-1762453800-1762459200@devotedcity.com
SUMMARY:G4 Support and Recovery Groups
DESCRIPTION:Find community & biblically based healing at our weekly G4 groups. No registration required\, Thursdays at 6:30pm.\nLearn more.
URL:https://devotedcity.com/event/g4-support-and-recovery-groups/2025-11-06/
LOCATION:Devoted City North Raleigh\, 9500 DURANT RD\, RALEIGH\, NC\, 27614-9721\, United States
CATEGORIES:Cary,North Raleigh
ATTACH;FMTTYPE=image/jpeg:https://devotedcity.com/wp-content/uploads/2024/11/g4-dcc-background.jpg
END:VEVENT
BEGIN:VEVENT
DTSTART;TZID=America/New_York:20251030T183000
DTEND;TZID=America/New_York:20251030T200000
DTSTAMP:20260425T065222
CREATED:20250920T000122Z
LAST-MODIFIED:20251109T015706Z
UID:10000587-1761849000-1761854400@devotedcity.com
SUMMARY:G4 Support and Recovery Groups
DESCRIPTION:Find community & biblically based healing at our weekly G4 groups. No registration required\, Thursdays at 6:30pm.\nLearn more.
URL:https://devotedcity.com/event/g4-support-and-recovery-groups/2025-10-30/
LOCATION:Devoted City North Raleigh\, 9500 DURANT RD\, RALEIGH\, NC\, 27614-9721\, United States
CATEGORIES:Cary,North Raleigh
ATTACH;FMTTYPE=image/jpeg:https://devotedcity.com/wp-content/uploads/2024/11/g4-dcc-background.jpg
END:VEVENT
BEGIN:VEVENT
DTSTART;TZID=America/New_York:20251025T183000
DTEND;TZID=America/New_York:20251025T203000
DTSTAMP:20260425T065222
CREATED:20250919T233822Z
LAST-MODIFIED:20251007T234944Z
UID:10000206-1761417000-1761424200@devotedcity.com
SUMMARY:Young Adults Movie/Game Night
DESCRIPTION:All Young Adults are welcome to stay after the Saturday night worship service for a fall-themed Movie and Game Night. Bonus: There will be food trucks on site!
URL:https://devotedcity.com/event/young-adults-movie-game-night/
LOCATION:Devoted City North Raleigh\, 9500 DURANT RD\, RALEIGH\, NC\, 27614-9721\, United States
CATEGORIES:Cary,North Raleigh,Young Adults
ATTACH;FMTTYPE=image/png:https://devotedcity.com/wp-content/uploads/2024/05/YA-slide.png
END:VEVENT
BEGIN:VEVENT
DTSTART;TZID=America/New_York:20251025T170000
DTEND;TZID=America/New_York:20251025T190000
DTSTAMP:20260425T065222
CREATED:20250919T200423Z
LAST-MODIFIED:20251007T145653Z
UID:10000204-1761411600-1761418800@devotedcity.com
SUMMARY:Trunk or Treat 2025 - At the Cary Campus
DESCRIPTION:Join us for an afternoon of family fun on October 25 from 5-7pm! We’ll have trunks\, food\, and other activities. Invite your friends! \nVolunteer for this event by either decorating a trunk or being an event volunteer.\n\nStation Volunteer Form \nApply to Decorate a Trunk \nAll the Info HERE
URL:https://devotedcity.com/event/trunk-or-treat-2025-at-the-cary-campus/
LOCATION:Devoted City Cary\, 590 Westhigh St\, Cary\, 27513\, United States
CATEGORIES:Cary,Kids,North Raleigh
ATTACH;FMTTYPE=image/png:https://devotedcity.com/wp-content/uploads/2024/10/Social-Square.png
END:VEVENT
BEGIN:VEVENT
DTSTART;TZID=America/New_York:20251023T183000
DTEND;TZID=America/New_York:20251023T200000
DTSTAMP:20260425T065222
CREATED:20250920T000122Z
LAST-MODIFIED:20251109T015706Z
UID:10000586-1761244200-1761249600@devotedcity.com
SUMMARY:G4 Support and Recovery Groups
DESCRIPTION:Find community & biblically based healing at our weekly G4 groups. No registration required\, Thursdays at 6:30pm.\nLearn more.
URL:https://devotedcity.com/event/g4-support-and-recovery-groups/2025-10-23/
LOCATION:Devoted City North Raleigh\, 9500 DURANT RD\, RALEIGH\, NC\, 27614-9721\, United States
CATEGORIES:Cary,North Raleigh
ATTACH;FMTTYPE=image/jpeg:https://devotedcity.com/wp-content/uploads/2024/11/g4-dcc-background.jpg
END:VEVENT
BEGIN:VEVENT
DTSTART;TZID=America/New_York:20251019T093000
DTEND;TZID=America/New_York:20251019T110000
DTSTAMP:20260425T065222
CREATED:20250922T191905Z
LAST-MODIFIED:20251005T010244Z
UID:10000470-1760866200-1760871600@devotedcity.com
SUMMARY:Bring Supplies for Dorcas
DESCRIPTION:Dorcas Ministries serves the Cary & Morrisville areas\, to care for those in need. Their food pantry serves hundreds of people each month. \nBring donations with you on October 19\, and drop them at the Next Steps area. \nThis month\, they specifically need:\ncanned fruit\, laundry detergent\, instant potatoes and stuffing\, oatmeal\, peanut butter\, jelly\, diapers (sizes 4\, 5\, 6)
URL:https://devotedcity.com/event/collection-for-dorcas/
LOCATION:Devoted City Cary\, 590 Westhigh St\, Cary\, 27513\, United States
CATEGORIES:Cary
ATTACH;FMTTYPE=image/jpeg:https://devotedcity.com/wp-content/uploads/2024/02/dorcas-van.jpg
END:VEVENT
BEGIN:VEVENT
DTSTART;TZID=America/New_York:20251016T183000
DTEND;TZID=America/New_York:20251016T200000
DTSTAMP:20260425T065222
CREATED:20250920T000122Z
LAST-MODIFIED:20251109T015706Z
UID:10000585-1760639400-1760644800@devotedcity.com
SUMMARY:G4 Support and Recovery Groups
DESCRIPTION:Find community & biblically based healing at our weekly G4 groups. No registration required\, Thursdays at 6:30pm.\nLearn more.
URL:https://devotedcity.com/event/g4-support-and-recovery-groups/2025-10-16/
LOCATION:Devoted City North Raleigh\, 9500 DURANT RD\, RALEIGH\, NC\, 27614-9721\, United States
CATEGORIES:Cary,North Raleigh
ATTACH;FMTTYPE=image/jpeg:https://devotedcity.com/wp-content/uploads/2024/11/g4-dcc-background.jpg
END:VEVENT
BEGIN:VEVENT
DTSTART;TZID=America/New_York:20251011T083000
DTEND;TZID=America/New_York:20251011T120000
DTSTAMP:20260425T065222
CREATED:20250922T193737Z
LAST-MODIFIED:20250922T193958Z
UID:10000469-1760171400-1760184000@devotedcity.com
SUMMARY:CityServe: Laurel Park Elementary School
DESCRIPTION:We love serving our city! Let’s beautify the grounds of Laurel Park Elementary School. \nWe’ll be spreading mulch\, pulling weeds\, planting bushes\, and doing other garden projects. Please bring garden gloves\, rakes\, shovels\, and wheelbarrows if you have them. \n**Use Waze or Google Maps for location the entrance to the school can be tricky to find it is not on the main road – you have to turn into a neighborhood to get to the school. \nMore details and signup are here 
URL:https://devotedcity.com/event/cityserve-laurel-park-elementary-school/
LOCATION:NC
CATEGORIES:Cary
ATTACH;FMTTYPE=image/png:https://devotedcity.com/wp-content/uploads/2025/09/City-Serving-Title-Graphic.png
END:VEVENT
BEGIN:VEVENT
DTSTART;TZID=America/New_York:20251009T183000
DTEND;TZID=America/New_York:20251009T200000
DTSTAMP:20260425T065222
CREATED:20250920T000122Z
LAST-MODIFIED:20251109T015706Z
UID:10000584-1760034600-1760040000@devotedcity.com
SUMMARY:G4 Support and Recovery Groups
DESCRIPTION:Find community & biblically based healing at our weekly G4 groups. No registration required\, Thursdays at 6:30pm.\nLearn more.
URL:https://devotedcity.com/event/g4-support-and-recovery-groups/2025-10-09/
LOCATION:Devoted City North Raleigh\, 9500 DURANT RD\, RALEIGH\, NC\, 27614-9721\, United States
CATEGORIES:Cary,North Raleigh
ATTACH;FMTTYPE=image/jpeg:https://devotedcity.com/wp-content/uploads/2024/11/g4-dcc-background.jpg
END:VEVENT
BEGIN:VEVENT
DTSTART;TZID=America/New_York:20251005T123000
DTEND;TZID=America/New_York:20251005T133000
DTSTAMP:20260425T065222
CREATED:20250919T235255Z
LAST-MODIFIED:20250922T173159Z
UID:10000209-1759667400-1759671000@devotedcity.com
SUMMARY:MOHI Trip Interest Meeting
DESCRIPTION:A Mission Trip to Kenya is in the works for Summer 2026. Learn the details at the interest meeting on October 5 at 12:30pm at our North Raleigh Campus. RSVP here to let us know you’ll be there.
URL:https://devotedcity.com/event/mohi-trip-interest-meeting/
LOCATION:NC
CATEGORIES:Cary,North Raleigh
ATTACH;FMTTYPE=image/png:https://devotedcity.com/wp-content/uploads/2025/09/MOHI-Promo-Slide-no-date.png
END:VEVENT
BEGIN:VEVENT
DTSTART;TZID=America/New_York:20251002T183000
DTEND;TZID=America/New_York:20251002T200000
DTSTAMP:20260425T065222
CREATED:20250920T000122Z
LAST-MODIFIED:20251109T015706Z
UID:10000583-1759429800-1759435200@devotedcity.com
SUMMARY:G4 Support and Recovery Groups
DESCRIPTION:Find community & biblically based healing at our weekly G4 groups. No registration required\, Thursdays at 6:30pm.\nLearn more.
URL:https://devotedcity.com/event/g4-support-and-recovery-groups/2025-10-02/
LOCATION:Devoted City North Raleigh\, 9500 DURANT RD\, RALEIGH\, NC\, 27614-9721\, United States
CATEGORIES:Cary,North Raleigh
ATTACH;FMTTYPE=image/jpeg:https://devotedcity.com/wp-content/uploads/2024/11/g4-dcc-background.jpg
END:VEVENT
BEGIN:VEVENT
DTSTART;TZID=America/New_York:20251001T190000
DTEND;TZID=America/New_York:20251001T200000
DTSTAMP:20260425T065222
CREATED:20250918T180716Z
LAST-MODIFIED:20250918T180716Z
UID:10000203-1759345200-1759348800@devotedcity.com
SUMMARY:Worship Night
DESCRIPTION:One of our favorite nights of the year! Join us on Wednesday\, October 1 to worship together. These nights are a great opportunity to break out of your midweek routine\, come together with your church family\, and worship our Lord. \nInvite your friends! \nThis event is happening at our North Raleigh campus\, 9500 Durant Rd.
URL:https://devotedcity.com/event/worship-night-oct-2025/
LOCATION:Devoted City North Raleigh\, 9500 DURANT RD\, RALEIGH\, NC\, 27614-9721\, United States
CATEGORIES:Cary,North Raleigh
ATTACH;FMTTYPE=image/png:https://devotedcity.com/wp-content/uploads/2023/08/Screen-Shot-2023-08-22-at-5.59.06-PM.png
END:VEVENT
BEGIN:VEVENT
DTSTART;TZID=America/New_York:20250925T183000
DTEND;TZID=America/New_York:20250925T200000
DTSTAMP:20260425T065222
CREATED:20250920T000122Z
LAST-MODIFIED:20251109T015706Z
UID:10000582-1758825000-1758830400@devotedcity.com
SUMMARY:G4 Support and Recovery Groups
DESCRIPTION:Find community & biblically based healing at our weekly G4 groups. No registration required\, Thursdays at 6:30pm.\nLearn more.
URL:https://devotedcity.com/event/g4-support-and-recovery-groups/2025-09-25/
LOCATION:Devoted City North Raleigh\, 9500 DURANT RD\, RALEIGH\, NC\, 27614-9721\, United States
CATEGORIES:Cary,North Raleigh
ATTACH;FMTTYPE=image/jpeg:https://devotedcity.com/wp-content/uploads/2024/11/g4-dcc-background.jpg
END:VEVENT
BEGIN:VEVENT
DTSTART;TZID=America/New_York:20250920T170000
DTEND;TZID=America/New_York:20250921T123000
DTSTAMP:20260425T065222
CREATED:20250920T000645Z
LAST-MODIFIED:20250920T000645Z
UID:10000468-1758387600-1758457800@devotedcity.com
SUMMARY:Bring Supplies for Western North Carolina
DESCRIPTION:Let’s fill the trailer! We are collecting supplies the weekend of 9/20 & 9/21\, to send to the Blessing Barn\, one of our community partners in Western North Carolina. There is also an upcoming special relief trip you can be a part of! View the full list of supplies and trip details here.
URL:https://devotedcity.com/event/bring-supplies-for-western-north-carolina/
LOCATION:NC
CATEGORIES:Cary,North Raleigh
ATTACH;FMTTYPE=image/jpeg:https://devotedcity.com/wp-content/uploads/2024/10/1CE5F513-210B-4A95-AF59-7C94A8211AEF.jpg
END:VEVENT
BEGIN:VEVENT
DTSTART;TZID=America/New_York:20250913T183000
DTEND;TZID=America/New_York:20250913T203000
DTSTAMP:20260425T065222
CREATED:20250909T211643Z
LAST-MODIFIED:20250918T175841Z
UID:10000202-1757788200-1757795400@devotedcity.com
SUMMARY:Young Adults BoJangle's Tailgate and Football Watch Party
DESCRIPTION:
URL:https://devotedcity.com/event/young-adults-bojangles-tailgate-and-football-watch-party/
LOCATION:Devoted City North Raleigh\, 9500 DURANT RD\, RALEIGH\, NC\, 27614-9721\, United States
CATEGORIES:Cary,North Raleigh,Young Adults
ATTACH;FMTTYPE=image/png:https://devotedcity.com/wp-content/uploads/2024/05/YA-slide.png
END:VEVENT
BEGIN:VEVENT
DTSTART;TZID=America/New_York:20250912T183000
DTEND;TZID=America/New_York:20250912T200000
DTSTAMP:20260425T065222
CREATED:20250715T133155Z
LAST-MODIFIED:20250715T133155Z
UID:10000200-1757701800-1757707200@devotedcity.com
SUMMARY:MOVE
DESCRIPTION:New to Devoted City? MOVE is for you! You’ll get to meet some of the staff & others who are new to the church. We’ll share the mission\, vision\, and values of Devoted City and let you know how you can get more involved. \nDinner is provided! \nRegister Here – North Raleigh\nRegister Here – Cary
URL:https://devotedcity.com/event/move-september/
LOCATION:Devoted City North Raleigh\, 9500 DURANT RD\, RALEIGH\, NC\, 27614-9721\, United States
CATEGORIES:Cary,Move,North Raleigh
ATTACH;FMTTYPE=image/jpeg:https://devotedcity.com/wp-content/uploads/2024/01/Move-Title-Slide.jpg
END:VEVENT
BEGIN:VEVENT
DTSTART;TZID=America/New_York:20250521T190000
DTEND;TZID=America/New_York:20250521T200000
DTSTAMP:20260425T065222
CREATED:20250427T142736Z
LAST-MODIFIED:20250427T142736Z
UID:10000183-1747854000-1747857600@devotedcity.com
SUMMARY:Worship Night
DESCRIPTION:One of our favorite nights of the year! Join us on Wednesday\, May 21 to worship together. These nights are a great opportunity to break out of your midweek routine\, come together with your church family\, and worship our Lord. \nInvite your friends! \nThis event is happening at our North Raleigh campus\, 9500 Durant Rd.
URL:https://devotedcity.com/event/worship-night-may/
LOCATION:Devoted City North Raleigh\, 9500 DURANT RD\, RALEIGH\, NC\, 27614-9721\, United States
CATEGORIES:Cary,North Raleigh
ATTACH;FMTTYPE=image/png:https://devotedcity.com/wp-content/uploads/2025/04/Worship-Night-May-21-Splash_1.png
END:VEVENT
BEGIN:VEVENT
DTSTART;TZID=America/New_York:20250510T183000
DTEND;TZID=America/New_York:20250510T200000
DTSTAMP:20260425T065222
CREATED:20250427T144220Z
LAST-MODIFIED:20250427T144220Z
UID:10000185-1746901800-1746907200@devotedcity.com
SUMMARY:Young Adults Trivia Night
DESCRIPTION:Young Adults gather on the second Saturday of every month\, after North Raleigh’s Saturday night service. It’s a time to meet other young adults & grow in community! This month we’re doing Trivia and ordering pizza 🍕 – invite your friends! \nStay in the know by following Devoted City Young Adults on Instagram: @devotedcityya
URL:https://devotedcity.com/event/young-adults-trivia-night/
LOCATION:Devoted City North Raleigh\, 9500 DURANT RD\, RALEIGH\, NC\, 27614-9721\, United States
CATEGORIES:Cary,North Raleigh,Young Adults
ATTACH;FMTTYPE=image/png:https://devotedcity.com/wp-content/uploads/2025/04/YA-may-10.png
END:VEVENT
BEGIN:VEVENT
DTSTART;TZID=America/New_York:20250503T100000
DTEND;TZID=America/New_York:20250503T123000
DTSTAMP:20260425T065222
CREATED:20250326T192114Z
LAST-MODIFIED:20250326T192114Z
UID:10000182-1746266400-1746275400@devotedcity.com
SUMMARY:Child Dedication: Spring 2025
DESCRIPTION:We are so excited to celebrate with you and your family and to stand beside you in your parenting journey during our first Child Dedication Celebration for Devoted City Church! This event includes a class for parents\, followed by a dedication ceremony where family and friends are invited to join. \nChildcare will be available during the class portion. Breakfast will be provided for parents. \nRegistration is required. \nRegister here.
URL:https://devotedcity.com/event/child-dedication-spring-2025/
LOCATION:Devoted City North Raleigh\, 9500 DURANT RD\, RALEIGH\, NC\, 27614-9721\, United States
CATEGORIES:Cary,Kids,North Raleigh
ATTACH;FMTTYPE=image/jpeg:https://devotedcity.com/wp-content/uploads/2024/08/DCC-Child-Dedication-1-1.jpg
ORGANIZER;CN="Devoted City Kids":MAILTO:kids@devotedcity.com
END:VEVENT
BEGIN:VEVENT
DTSTART;TZID=America/New_York:20250502T183000
DTEND;TZID=America/New_York:20250502T203000
DTSTAMP:20260425T065222
CREATED:20250326T191559Z
LAST-MODIFIED:20250326T191700Z
UID:10000181-1746210600-1746217800@devotedcity.com
SUMMARY:MOVE
DESCRIPTION:If you’re new to Devoted City\, MOVE is an event for you! We’ll share more about Devoted City\, answer questions\, and you’ll be able to take next steps to get connected. Dinner is provided! Register today. \nRegister for MOVE
URL:https://devotedcity.com/event/move-may-25/
LOCATION:Devoted City North Raleigh\, 9500 DURANT RD\, RALEIGH\, NC\, 27614-9721\, United States
CATEGORIES:Cary,Move,North Raleigh
ATTACH;FMTTYPE=image/jpeg:https://devotedcity.com/wp-content/uploads/2024/01/Move-Title-Slide.jpg
END:VEVENT
BEGIN:VEVENT
DTSTART;TZID=America/New_York:20250420T100000
DTEND;TZID=America/New_York:20250420T110000
DTSTAMP:20260425T065222
CREATED:20250318T203801Z
LAST-MODIFIED:20250318T203801Z
UID:10000178-1745143200-1745146800@devotedcity.com
SUMMARY:Easter Sunday - Cary
DESCRIPTION:He is Risen! Join us at Cary on Sunday\, April 20 to celebrate Jesus’ resurrection. \nView all service times for all campuses at devotedcity.com/easter.
URL:https://devotedcity.com/event/easter-sunday-cary/
LOCATION:Devoted City Cary\, 590 Westhigh St\, Cary\, 27513\, United States
CATEGORIES:Cary,Easter
ATTACH;FMTTYPE=image/png:https://devotedcity.com/wp-content/uploads/2025/03/Easter-Cary-Event-Cover.png
END:VEVENT
BEGIN:VEVENT
DTSTART;TZID=America/New_York:20250418T190000
DTEND;TZID=America/New_York:20250418T200000
DTSTAMP:20260425T065222
CREATED:20250318T203241Z
LAST-MODIFIED:20250318T203241Z
UID:10000176-1745002800-1745006400@devotedcity.com
SUMMARY:Good Friday Service
DESCRIPTION:Good Friday is the day Jesus bore the weight of our sins on the cross. We’ll gather to reflect on the sacrifice He made\, and rejoice in the fact that Sunday is coming!\n\nThis is a family service\, childcare is provided for Nursery & Preschool. This event is at the Cary Campus.\n\nInvite your friends\, and join us for Easter Weekend (April 19 & 20) as we celebrate that He is Risen! View all Easter service times at devotedcity.com/easter.
URL:https://devotedcity.com/event/good-friday-service/
LOCATION:Devoted City Cary\, 590 Westhigh St\, Cary\, 27513\, United States
CATEGORIES:Cary,Easter
ATTACH;FMTTYPE=image/png:https://devotedcity.com/wp-content/uploads/2025/03/Easter-Good-Friday-Event-Cover.png
END:VEVENT
END:VCALENDAR